{"text_format":"1","workbook":"xlsx","n_sheets":33,"sheets":["黄ラベル認証値","AST","ALT","ALP","LD","CPK","rGT","AMY","CHE","TCH","TG","HDL","TBIL","TP","ALB","BUN","CRE","UA","GLU","Na","K","CL","Ca","IP","Fe","CRP","IgG","IgA","IgM","LDL","Mg","2016.2月を100％とした時の活性変化率","Module1"],"not_rendered":{"charts":36,"images":0,"macros":1,"external_links":0,"defined_names":28,"comments":0,"pivot_tables":0},"unopened":[{"sheet":"Module1","index":32,"reason":"part_missing"}],"bounds":{"document_bytes":16777216,"sheet_cells":100000,"rows_first":2000,"rows_last":500,"rows_between":2000,"halvings":0,"cell_chars":16384,"cell_head_chars":4096},"cells_cut":0,"cells_raw":0,"read":"whole","date_system":"1900"}

{"sheet":"黄ラベル認証値","index":0,"n_rows":44,"n_cols":8,"rows_kept":44,"cut":false,"hidden":false,"merged":[[0,0,0,7],[1,3,1,6],[39,0,39,7],[41,0,41,7]]}
["Chiritorol 2000L 黄ﾗﾍﾞﾙ（製造番号：008510 有効期限：2017．09）認証値 2015年12月"]
["項目","認証値","単位","許容範囲",null,null,null,"許容幅"]
["Na",145,"mmol/l",{"$f":"$B$3-2","v":143},"～","～",{"$f":"$B$3+2","v":147},"±２ｍｍｏｌ／ｌ"]
["K",5.4,"mmol/l",{"$f":"$B$4-0.2","v":5.2},"～","～",{"$f":"$B$4+0.2","v":5.6000000000000005},"±０．２ｍｍｏｌ／ｌ"]
["CL",109,"mmol/l",{"$f":"$B$5-3","v":106},"～","～",{"$f":"$B$5+3","v":112},"±３ｍｍｏｌ／ｌ"]
["CL（日立電極）",106,"mmol/l",{"$f":"$B$6-3","v":103},"～","～",{"$f":"$B$6+3","v":109},"±３ｍｍｏｌ／ｌ"]
["Ca",11.3,"mg/dl",{"$f":"$B$7-0.5","v":10.8},"～","～",{"$f":"$B$7+0.5","v":11.8},"±０．５ｍｇ／ｄｌ"]
["GLU",183,"mg/dl",{"$f":"$B$8-5","v":178},"～","～",{"$f":"$B$8+5","v":188},"±５ｍｇ／ｄｌ"]
["TCH",141,"mg/dl",{"$f":"ROUNDDOWN($B$9*0.95,0)","v":133},"～","～",{"$f":"ROUNDUP($B$9*1.05,0)","v":149},"±８ｍｇ／ｄｌ（±５％）"]
["TG",50,"mg/dl",{"$f":"ROUNDDOWN($B$10*0.95,0)","v":47},"～","～",{"$f":"ROUNDUP($B$10*1.05,0)","v":53},"±３ｍｇ／ｄｌ（±５％）"]
["HDL協和メタボリード",43,"mg/dl",{"$f":"$B$11-3","v":40},"～","～",{"$f":"$B$11+3","v":46},"±３ｍｇ／ｄｌ"]
["HDL積水コレステスト",50,"mg/dl",{"$f":"$B$12-3","v":47},"～","～",{"$f":"$B$12+3","v":53},"±３ｍｇ／ｄｌ"]
["TP",6.6,"g/dl",{"$f":"$B$13-0.2","v":6.3999999999999995},"～","～",{"$f":"$B$13+0.2","v":6.8},"±０．２ｇ／ｄｌ"]
["ALB（BCG）",4.2300000000000004,"g/dl",{"$f":"$B$14-0.2","v":4.03},"～","～",{"$f":"$B$14+0.2","v":4.4300000000000006},"±０．２ｇ／ｄｌ"]
["ALB（New BCP）",4.0999999999999996,"g/dl",{"$f":"$B$15-0.2","v":3.8999999999999995},"～","～",{"$f":"$B$15+0.2","v":4.3},"±０．２ｇ／ｄｌ"]
["T-BIL",2,"mg/dl",{"$f":"$B$16-0.2","v":1.8},"～","～",{"$f":"$B$16+0.2","v":2.2000000000000002},"±０．２ｍｇ／ｄｌ（±１０％）"]
["CRP",2.2799999999999998,"mg/dl",{"$f":"$B$17-0.2","v":2.0799999999999996},"～","～",{"$f":"$B$17+0.2","v":2.48},"±０．２０ｍｇ／ｄｌ"]
["UA",6.6,"mg/dl",{"$f":"$B$18-0.3","v":6.3},"～","～",{"$f":"$B$18+0.3","v":6.8999999999999995},"±０．３ｍｇ／ｄｌ"]
["BUN",33,"mg/dl",{"$f":"$B$19-2","v":31},"～","～",{"$f":"$B$19+2","v":35},"±２ｍｇ／ｄｌ"]
["CRE",2.94,"mg/dl",{"$f":"$B$20-0.2","v":2.7399999999999998},"～","～",{"$f":"$B$20+0.2","v":3.14},"±０．２０ｍｇ／ｄｌ"]
["AST",94,"U/l",{"$f":"ROUNDDOWN($B$21*0.95,0)","v":89},"～","～",{"$f":"ROUNDUP($B$21*1.05,0)","v":99},"±５Ｕ／ｌ（±５％）"]
["ALT",78,"U/l",{"$f":"ROUNDDOWN($B$22*0.95,0)","v":74},"～","～",{"$f":"ROUNDUP($B$22*1.05,0)","v":82},"±４Ｕ／ｌ（±５％）"]
["γ-GT",71,"U/l",{"$f":"ROUNDDOWN($B$23*0.95,0)","v":67},"～","～",{"$f":"ROUNDUP($B$23*1.05,0)","v":75},"±４Ｕ／ｌ（±５％）"]
["ALP",287,"U/l",{"$f":"ROUNDDOWN($B$24*0.95,0)","v":272},"～","～",{"$f":"ROUNDUP($B$24*1.05,0)","v":302},"±１５Ｕ／ｌ（±５％）"]
["LD",280,"U/l",{"$f":"ROUNDDOWN($B$25*0.95,0)","v":266},"～","～",{"$f":"ROUNDUP($B$25*1.05,0)","v":294},"±１４Ｕ／ｌ（±５％）"]
["CK",295,"U/l",{"$f":"ROUNDDOWN($B$26*0.95,0)","v":280},"～","～",{"$f":"ROUNDUP($B$26*1.05,0)","v":310},"±１５Ｕ／ｌ（±５％）"]
["AMY",236,"U/l",{"$f":"ROUNDDOWN($B$27*0.95,0)","v":224},"～","～",{"$f":"ROUNDUP($B$27*1.05,0)","v":248},"±１２Ｕ／ｌ（±５％）"]
["ChE",309,"U/l",{"$f":"ROUNDDOWN($B$28*0.95,0)","v":293},"～","～",{"$f":"ROUNDUP($B$28*1.05,0)","v":325},"±１６Ｕ／ｌ（±５％）"]
["Fe",151,"μg/dl",{"$f":"ROUNDDOWN($B$29*0.95,0)","v":143},"～","～",{"$f":"ROUNDUP($B$29*1.05,0)","v":159},"±８μｇ／ｄｌ（±５％）"]
["Mg",2.7,"mg/dl",{"$f":"$B$30-0.2","v":2.5},"～","～",{"$f":"$B$30+0.2","v":2.9000000000000004},"±０．２ｍｇ／ｄｌ"]
["IP",6.1,"mg/dl",{"$f":"$B$31-0.2","v":5.8999999999999995},"～","～",{"$f":"$B$31+0.2","v":6.3},"±０．２ｍｇ／ｄｌ"]
["IgG",985,"mg/dl",{"$f":"ROUNDDOWN($B$32*0.95,0)","v":935},"～","～",{"$f":"ROUNDUP($B$32*1.05,0)","v":1035},"±５０ｍｇ／ｄｌ（±５％）"]
["IgA",196,"mg/dl",{"$f":"ROUNDDOWN($B$33*0.9,0)","v":176},"～","～",{"$f":"ROUNDUP($B$33*1.1,0)","v":216},"±２０ｍｇ／ｄｌ（±１０％）"]
["IgM",91,"mg/dl",{"$f":"ROUNDDOWN($B$34*0.9,0)","v":81},"～","～",{"$f":"ROUNDUP($B$34*1.1,0)","v":101},"±１０ｍｇ／ｄｌ（±１０％）"]
["参考値として扱う項目"]
["LDL協和メタボリード",80,"mg/dl",{"$f":"$B$36-5","v":75},"～","～",{"$f":"$B$36+5","v":85},"±５ｍｇ／ｄｌ"]
["LDL積水コレステスト",61,"mg/dl",{"$f":"$B$37-5","v":56},"～","～",{"$f":"$B$37+5","v":66},"±５ｍｇ／ｄｌ"]
[]
["（留意事項）"]
["１．LDL値には機種間差が認められたため、参考値扱いとさせて頂きます。（デタミナー試薬は発売中止に伴い削除しました）"]
["２．AMYについては今回のロットに、天然型尿由来ではなく、P型リコンビナントを添加し濃度調整をおこなったため、"]
["　　Ｇ2やＧ3基質で3～5％低値を示すことが確認されています。（基幹病院ではJCHO船橋と東歯大市川が該当します）"]
["３．T-BILは本ロットより、メーカー間差無しと認め参考値扱いを解除しました。"]
["４．チリトロール2000Lを検量用物質（キャリブレータ）として用いることに対して、データの保証はいたしません。"]

{"sheet":"AST","index":1,"n_rows":20,"n_cols":17,"rows_kept":20,"cut":false,"hidden":false,"merged":[]}
[null,null,null,null,null,"AST"]
["月","千葉大","がんｾﾝﾀｰ","船橋中央","県立佐原","千葉ﾘﾊﾋﾞﾘ","順大浦安","千葉青葉","東歯大市川","千葉MC","こども病院","認証値","10病院平均","R","下限","上限","2015.02月値を100％に対する変化率"]
[2,null,null,93.45,95.16,null,95.486486486486484,null,92.888999999999996,null,null,94,{"$f":"AVERAGE(B3:K3)","v":94.24637162162162},{"$f":"MAX(B3:K3)-MIN(B3:K3)","v":2.5974864864864884},89,99,{"$f":"M3/M3*100","v":100}]
[3,94.925925925925924,92.503181818181801,93.64,95.47,93.414285714285711,95.238095238095241,94.7,93.614000000000004,95.54,94.25,94,94.329548869648875,{"$f":"MAX(B4:K4)-MIN(B4:K4)","v":3.0368181818182052},89,99,{"$f":"M4/M4*100","v":100}]
[4,94.851851851851848,92.187999999999988,93.45,96.23,93.604918032786898,94.737179487179503,94.3,93.037999999999997,95.54,92.954545454545453,94,94.089449482636354,{"$f":"MAX(B5:K5)-MIN(B5:K5)","v":4.0420000000000158},89,99,{"$f":"M5/M$3*100","v":99.833497951926176}]
[5,94.851851851851848,91.972777777777779,93.63,96.17,93.629310344827616,94.669540229885058,94,93.034999999999997,95.54,93.1,94,94.059848020434217,{"$f":"MAX(B6:K6)-MIN(B6:K6)","v":4.1972222222222229},89,99,99.802089355825544]
[6,94.851851851851848,92.521818181818176,92.59,95.17,93.985714285714295,95.004629629629619,94.2,93.477000000000004,95.13,93.777777777777771,94,94.070879172679184,{"$f":"MAX(B5:K5)-MIN(B5:K5)","v":4.0420000000000158},89,99,99.813793946734634]
[7,94.78125,92.358000000000004,91.53,94.08,93.690163929999997,94.368421052631575,94.6,93.709000000000003,95.2,94.882352941176464,94,93.919918792380813,{"$f":"MAX(B8:K8)-MIN(B8:K8)","v":3.6700000000000017},89,99,99.653617615592211]
[8,94.71875,92.358181818181819,92.25,94.42,94.414285714285711,94.087719298245602,93.4,93.238,94.57,94.36363636363636,94,93.782057319434955,2.46875,89,99,99.507339864445086]
[9,94.25,92.498947368421042,92.25,94.86,93.55,93.731060606060609,93.4,93.582999999999998,92.85,94.409090909090907,94,93.538209888357258,2.6099999999999994,89,99,99.248605839058214]
[10,94.375,93.199499999999972,92.45,94.68,93.512280701754392,93.178571428571431,93.3,92.75,92.66,94.61904761904762,94,93.47243997493733,2.230000000000004,89,99,99.178820751008374]
[11,94.34375,93.781999999999996,93.28,94.72,93.352542372881373,92.550724637681157,93.8,92.772999999999996,92.72,95.55,94,93.687201701056253,2.9992753623188406,89,99,99.406693423901444]
[12,94.5,93.727238095238107,93.42,94.71,93.543859649122808,93.039682539682545,93.3,92.543000000000006,92.58,95.9375,94,93.730128028404337,3.3944999999999936,89,99,99.452240352244132]
[1,94.75,93.799599999999984,93.29,94,93.239655172413777,93.261904761904773,92.7,92.272000000000006,92.68,95.235294117647058,94,93.522845405196591,2.9632941176470524,89,99,99.232303372558647]
[2,94.625,93.983349999999987,93.4,94.31,93.638596491228114,94.365384615384613,92.6,92.052000000000007,93.02,94.473684210526315,94,93.646801531713905,2.5729999999999933,89,99,99.363826872492382]
[3,94.375,93.696181818181813,93.39,94.23,93.746153846153817,94.134615384615387,92.2,91.337000000000003,93.4,95.055555555555557,94,93.556450660450651,3.7185555555555538,89,99,99.267960188493149]
[4,94.15625,93.792500000000004,null,94.06,93.829310344827604,94.086956521739125,91.6,91.772000000000006,94.32,null,94,93.452127108320838,2.7199999999999989,89,99,99.157267808155524]
[5,94.59375,93.763349999999988,null,94.24,93.645283018867914,92.625,92.1,91.866,94.34,null,94,93.396672877358498,2.7277500000000003,89,99,99.098428162651743]
[6,null,null,null,null,null,null,null,null,null,null,94,null,0,89,99,0]
[7,null,null,null,null,null,null,null,null,null,null,94,null,0,89,99,0]

{"sheet":"ALT","index":2,"n_rows":20,"n_cols":17,"rows_kept":20,"cut":false,"hidden":false,"merged":[]}
[null,null,null,null,null,"ALT"]
["月","千葉大","がんｾﾝﾀｰ","船橋中央","県立佐原","千葉ﾘﾊﾋﾞﾘ","順大浦安","千葉青葉","東歯大市川","千葉MC","こども病院","認証値","10病院平均","R","下限","上限","2015.02月値を100％に対する変化率"]
[2,null,null,77.349999999999994,79.319999999999993,null,76.2,null,79.167000000000002,null,null,78,{"$f":"AVERAGE(B3:K3)","v":78.009250000000009},{"$f":"MAX(B3:K3)-MIN(B3:K3)","v":3.1199999999999903},74,82,{"$f":"M3/M3*100","v":100}]
[3,77.81481481481481,78.348636363636373,77.180000000000007,79.239999999999995,78.255555555555574,76.727272727272734,75.5,79.41,77.5,78.46875,78,77.844502946127946,3.9099999999999966,74,82,{"$f":"M4/M4*100","v":100}]
[4,77.777777777777771,78.344000000000008,76.88,79.03,78.48032786885247,76.676282051282058,75.7,77.875,77.489999999999995,75.772727272727266,78,77.402611497063944,3.3299999999999983,74,82,{"$f":"M5/M$3*100","v":99.222350550817922}]
[5,77.629629629629633,78.208333333333329,77.13,78.900000000000006,78.305084745762699,77.1640625,75.599999999999994,78,77.5,76.099999999999994,78,77.453711020872575,3.3000000000000114,74,82,99.287854992674028]
[6,77.925925925925924,79.0268181818182,77.52,77.319999999999993,78.359090909090895,77.485849056603769,77.3,78.795000000000002,77.3,76.529411764705884,78,77.756209583814453,2.497406417112316,74,82,99.675627677249096]
[7,77.96875,79.292500000000004,77.03,78.03,78.418032789999998,77.139639639639654,78.2,79.046999999999997,77.19,77.9375,78,78.025342242963958,2.2625000000000028,74,82,100.02062863437855]
[8,77.25,79.067272727272723,77.319999999999993,78.16,78.601587301587315,76.96052631578948,76.099999999999994,78.31,76.87,77.590909090909093,78,77.623029543555873,2.9672727272727286,74,82,99.504904281935623]
[9,77.25,79.251052631578943,77.150000000000006,78.069999999999993,78.071186440677977,76.806818181818173,76.2,79.131,77.489999999999995,77.5,78,77.692005725407512,3.0510526315789406,74,82,99.593324798543122]
[10,77.90625,78.972000000000008,77.099999999999994,77.72,77.71500000000006,76.354166666666671,76,77.832999999999998,77.8,77.333333333333329,78,77.473375000000004,2.9720000000000084,74,82,99.313062233004416]
[11,77.90625,79.1935,77.17,78.099999999999994,77.969090909090895,76.170289855072468,76.3,77.974000000000004,77.98,78.150000000000006,78,77.691313076416321,3.0232101449275319,74,82,99.592436892312534]
[12,77.5,79.229857142857128,77.16,78.069999999999993,77.962264150943383,76.337121212121204,75.8,77.480999999999995,77.73,78.375,78,77.564524250592171,3.4298571428571307,74,82,99.429906390065497]
[1,77.5,79.260000000000005,77.45,77.91,77.3,76.357142857142861,75.3,77.725999999999999,77.91,78.117647058823536,78,77.483078991596628,3.960000000000008,74,82,99.325501772670052]
[2,77.6875,78.80080000000001,77.5,77.75,77.864814814814807,76.5,75.900000000000006,77.831000000000003,77.510000000000005,78.21052631578948,78,77.555464113060424,2.9008000000000038,74,82,99.418292206450403]
[3,77.9375,78.615863636363642,77.59,78.25,77.619607843137274,76.38095238095238,76.3,77.388000000000005,77.44,78.5,78,77.602192386045346,2.3158636363636447,74,82,99.478193145101812]
[4,78.03125,78.499150000000014,null,78.47,78.099999999999994,76.75,75.7,76.882000000000005,77.12,null,78,77.444050000000004,2.7991500000000116,74,82,99.275470537147839]
[5,77.9375,78.7,null,78.38,78.096551724137953,76.976190476190482,76.3,77.518000000000001,77.12,null,78,77.628530275041058,{"$f":"MAX(B18:K18)-MIN(B18:K18)","v":2.4000000000000057},74,82,{"$f":"M18/M$3*100","v":99.511955665566646}]
[6,null,null,null,null,null,null,null,null,null,null,78,null,{"$f":"MAX(B19:K19)-MIN(B19:K19)","v":0},74,82,{"$f":"M19/M$3*100","v":0}]
[7,null,null,null,null,null,null,null,null,null,null,78,null,{"$f":"MAX(B20:K20)-MIN(B20:K20)","v":0},74,82,{"$f":"M20/M$3*100","v":0}]

{"sheet":"ALP","index":3,"n_rows":20,"n_cols":17,"rows_kept":20,"cut":false,"hidden":false,"merged":[]}
[null,null,null,null,null,"ALP"]
["月","千葉大","がんｾﾝﾀｰ","船橋中央","県立佐原","千葉ﾘﾊﾋﾞﾘ","順大浦安","千葉青葉","東歯大市川","千葉MC","こども病院","認証値","10病院平均","R","下限","上限","2015.02月値を100％に対する変化率"]
[2,null,null,284.63,293.10000000000002,null,288.5,null,288.41699999999997,null,null,287,{"$f":"AVERAGE(B3:K3)","v":288.66174999999998},{"$f":"MAX(B3:K3)-MIN(B3:K3)","v":8.4700000000000273},272,302,{"$f":"M3/M3*100","v":100}]
[3,288.48148148148147,283.30181818181813,288.32,292.05,286.08965517241381,287.17307692307691,288.7,290.39800000000002,291.33,287.41666666666669,287,288.32606984254568,8.7481818181818767,272,302,{"$f":"M4/M$3*100","v":99.883711590657825}]
[4,287.55555555555554,283.19299999999998,288.10000000000002,292.16000000000003,287.140625,284.56474358974367,288.2,285.18799999999999,290.72000000000003,284.4736842105263,287,287.12956083558254,8.9670000000000414,272,302,{"$f":"M5/M$3*100","v":99.469209493666042}]
[5,287.40740740740739,282.1894444444444,287.5,292,287.61355932203395,283.84635416666663,288.7,284.34100000000001,291.95,282.39999999999998,287,286.79477653405525,9.8105555555555952,272,302,99.353231432309713]
[6,286.62962962962962,283.10227272727275,284.05,288.97000000000003,285.55538461538458,284.43272727272722,289.39999999999998,289.17,292.67,287.4375,287,287.14175142450142,9.567727272727268,272,302,99.473432633350782]
[7,286.03125,283.20300000000003,279.45,287.8,285.13442620000001,284.91078431372551,288.89999999999998,290.32600000000002,291.33,290.27272727272725,287,286.73581877864524,11.879999999999995,272,302,99.332806919740918]
[8,286.1875,280.64499999999998,281.27,287.10000000000002,284.49538461538447,289.66666666666669,290.5,289.36900000000003,288.72000000000003,289.21052631578948,287,286.71640775978409,9.8550000000000182,272,302,99.326082433777287]
[9,286.59375,281.26263157894738,282.57,286.32,284.39230769230778,286.93750000000006,288.60000000000002,289.32100000000003,286.5,288.09090909090907,287,286.05880983621637,8.0583684210526485,272,302,99.098273268355214]
[10,285.09375,283.512,284.66000000000003,286.85000000000002,283.84666666666664,289.54824561403512,290.5,286.25,291,289.61111111111109,287,287.08717733918127,7.4879999999999995,272,302,99.454526739057485]
[11,283.8125,284.77900000000005,286.05,287.83,283.75166666666672,290.55797101449275,289.3,285.48,289.62,287.33333333333331,287,286.85144710144925,6.8063043478260283,272,302,99.372863602971037]
[12,284.1875,284.39280952380949,288.68,290.91000000000003,284.73508771929829,290.99242424242425,288.10000000000002,283.84100000000001,292.48,289.78571428571428,287,287.81045357712463,8.63900000000001,272,302,99.705088594912439]
[1,286.0625,283.09665000000007,288.58,288.04000000000002,285.31034482758628,285.95238095238096,287.5,283.512,289.64999999999998,284.66666666666669,287,286.2370542446634,6.5533499999999094,272,302,99.160021805682049]
[2,286.96875,282.22750000000002,289.02,287.98,285.16333333333324,284.49533333333335,286.89999999999998,285.69200000000001,291.01,289.89473684210526,287,286.93516535087713,8.7824999999999704,272,302,99.401865799981167]
[3,288.625,286.90836363636367,288.48,288.14999999999998,284.74696969696964,290.31250000000006,287.10000000000002,285.07100000000003,289.95999999999998,289,287,287.83538333333331,5.565530303030414,272,302,99.713724916215369]
[4,284,289.11,null,289.06,286.23859649122818,291.10833333333335,282.10000000000002,285.291,289.44,null,287,287.0434912280702,9.0083333333333258,272,302,99.439392724553983]
[5,284.5625,289.35000000000002,null,288.10000000000002,285.37796610169494,287.57142857142856,283.5,285.036,284.72000000000003,null,287,286.02723683414047,{"$f":"MAX(B18:K18)-MIN(B18:K18)","v":5.8500000000000227},272,302,99.087335552472908]
[6,null,null,null,null,null,null,null,null,null,null,287,null,{"$f":"MAX(B19:K19)-MIN(B19:K19)","v":0},272,302,0]
[7,null,null,null,null,null,null,null,null,null,null,287,null,{"$f":"MAX(B20:K20)-MIN(B20:K20)","v":0},272,302,0]

{"sheet":"LD","index":4,"n_rows":20,"n_cols":17,"rows_kept":20,"cut":false,"hidden":false,"merged":[]}
[null,null,null,null,null,"LD"]
["月","千葉大","がんｾﾝﾀｰ","船橋中央","県立佐原","千葉ﾘﾊﾋﾞﾘ","順大浦安","千葉青葉","東歯大市川","千葉MC","こども病院","認証値","10病院平均","R","下限","上限","2015.02月値を100％に対する変化率"]
[2,null,null,279.57,274.37,null,278.3,null,277.38900000000001,null,null,280,{"$f":"AVERAGE(B3:K3)","v":277.40724999999998},{"$f":"MAX(B3:K3)-MIN(B3:K3)","v":5.1999999999999886},266,294,{"$f":"M3/M3*100","v":100}]
[3,278.59259259259261,271.88272727272727,282.36,274.33,277.19310344827585,277.30769230769232,279.3,277.52999999999997,278.70999999999998,277.18518518518516,280,277.43913008064732,10.477272727272748,266,294,{"$f":"M4/M$3*100","v":100.01149215842315}]
[4,278.62962962962962,273.19749999999999,283.60000000000002,276.45999999999998,279.6171875,280.77564102564099,278.2,279.113,278.33,274.05,280,278.19729581552707,10.402500000000032,266,294,{"$f":"M5/M$3*100","v":100.28479638348568}]
[5,279,271.89166666666665,282.39,276.89999999999998,278.82033898305082,280.9375,277.8,280.85899999999998,279.27,275.2,280,278.30685056497174,10.498333333333335,266,294,100.32428877218305]
[6,278.11111111111109,272.16727272727275,282.45,271.97000000000003,279.4909090909091,279.82704402515725,275.39999999999998,281.79500000000002,278.85000000000002,275.8095238095238,280,277.58708607639744,10.479999999999961,266,294,100.06482746085312]
[7,276.4375,271.87149999999997,278.02,270.98,278.65409840000001,276.49918699186986,275.39999999999998,280.80200000000002,277.08999999999997,277.06666666666666,280,276.28209520585369,9.8220000000000027,266,294,99.594403248600656]
[8,277,271.71409090909088,279.89,270.36,282.15692307692319,276.46491228070181,274.89999999999998,279.86900000000003,276.62,277.27272727272725,280,276.62476535394433,11.796923076923179,266,294,99.717929273277591]
[9,277.15625,273.72473684210524,279.95,271.83,282.24923076923073,274.94469696969696,275,280.14299999999997,277.2,276.25,280,276.84479145810326,10.419230769230751,266,294,99.797244469314805]
[10,276.375,275.69150000000002,280.27,273.77,280.54166666666663,275.8174603174603,275.3,277.95100000000002,277.37,274.5625,280,276.76491269841262,6.771666666666647,266,294,99.768449706492035]
[11,278,275.81899999999996,282.07,274.64,279.85666666666663,277.08695652173913,276,278.06700000000001,278.33,277.63157894736844,280,277.75012021357736,7.4300000000000068,266,294,100.12359814445276]
[12,279.5625,275.62609523809522,281.64,273.45999999999998,279.82456140350888,276.22727272727275,274.7,276.34100000000001,278.04000000000002,275.3125,280,277.07339293688767,8.1800000000000068,266,294,99.879650923646622]
[1,279.625,277.65994999999992,282.13,271.22000000000003,282.3894736842106,276.52222222222224,273.89999999999998,275.97500000000002,278.42,280.29411764705884,280,277.8135763553492,11.169473684210573,266,294,100.14647286808447]
[2,278.96875,276.55415000000005,282.79000000000002,270.74,280.37,278.57142857142856,274.7,275.44900000000001,277.85000000000002,275.41176470588238,280,277.14050932773108,12.050000000000011,266,294,99.903845096958037]
[3,281.25,275.66818181818184,281.86,274.02999999999997,280.98030303030293,277.76785714285717,274.7,274.952,275.20999999999998,282.83333333333331,280,277.92516753246753,8.8033333333333417,266,294,100.18669934995121]
[4,277.625,276.85419999999999,null,277.39,281.16140350877191,276.59848484848493,273.8,274.95100000000002,273.8,null,280,276.52251104465711,7.3614035087719003,266,294,99.681068553419976]
[5,278.09375,278.07,null,277.29000000000002,279.78813559322032,277,274.60000000000002,275.48200000000003,274.64,null,280,276.87048569915248,{"$f":"MAX(B18:K18)-MIN(B18:K18)","v":5.188135593220295},266,294,99.806506751050122]
[6,null,null,null,null,null,null,null,null,null,null,280,null,{"$f":"MAX(B19:K19)-MIN(B19:K19)","v":0},266,294,0]
[7,null,null,null,null,null,null,null,null,null,null,280,null,{"$f":"MAX(B20:K20)-MIN(B20:K20)","v":0},266,294,0]

{"sheet":"CPK","index":5,"n_rows":20,"n_cols":17,"rows_kept":20,"cut":false,"hidden":false,"merged":[]}
[null,null,null,null,null,"CPK"]
["月","千葉大","がんｾﾝﾀｰ","船橋中央","県立佐原","千葉ﾘﾊﾋﾞﾘ","順大浦安","千葉青葉","東歯大市川","千葉MC","こども病院","認証値","10病院平均","R","下限","上限","2015.02月値を100％に対する変化率"]
[2,null,null,298.75,291.77,null,296.27777777777777,null,301.91699999999997,null,null,295,{"$f":"AVERAGE(B3:K3)","v":297.17869444444443},{"$f":"MAX(B3:K3)-MIN(B3:K3)","v":10.146999999999991},280,310,{"$f":"M3/M3*100","v":100}]
[3,299,289.32499999999999,300.02,292.87,295.6206896551725,295.84615384615387,291.8,297.48200000000003,297.38,299.80769230769232,295,295.91515358090192,10.694999999999993,280,310,{"$f":"M4/M$3*100","v":99.574821180938073}]
[4,298.14814814814815,290.01049999999998,297,292.86,295.69375000000002,296.57051282051282,291.60000000000002,293.64999999999998,298.52,297.3,295,295.13529109686613,8.5095000000000027,280,310,{"$f":"M5/M$3*100","v":99.312399110105005}]
[5,303.33333333333331,291.29722222222222,295.66000000000003,292.99,294.01864406779657,295.54797979797974,293,294.41199999999998,300.12,297.89999999999998,295,295.82791794213318,12.036111111111097,280,310,99.5454665736262]
[6,299.92592592592592,292.5872727272727,295.61,299.72000000000003,293.91363636363627,295.4848484848485,294.2,297.93200000000002,299.06,297.90476190476193,295,296.63384454064453,7.3386531986532191,280,310,99.816659163666344]
[7,296.8125,291.12050000000005,292.48,297.86,299.51147539999999,296.85416666666663,295.10000000000002,297.709,298.19,298.05882352941177,295,296.36964655960782,8.3909753999999452,280,310,99.727757103735499]
[8,298.09375,291.03681818181809,292.25,300.89999999999998,299.75692307692304,296.20175438596488,295.8,297.91699999999997,296.56,295.36363636363637,295,296.38798820083423,9.8631818181818858,280,310,99.73392902708305]
[9,295.78125,294.18315789473689,295.18,302.35000000000002,296.74769230769232,296.05303030303031,296.39999999999998,297.952,302.33,296.59090909090907,295,297.35680395963681,8.1668421052631288,280,310,100.05993347387347]
[10,295.875,292.57400000000001,296.66000000000003,296.66000000000003,295.52333333333331,298.49999999999994,297.60000000000002,293.66699999999997,296.79000000000002,299.83333333333331,295,296.36826666666673,7.2593333333333021,280,310,99.727292772689253]
[11,296,293.42099999999999,298.75,295.19,295.14333333333337,301.18840579710144,296.8,291.31599999999997,300.31,296.35000000000002,295,296.44687391304348,9.8724057971014645,280,310,99.753743944272642]
[12,301.6875,293.62209523809531,298.98,297.24,300.54912280701757,300.65909090909093,295.39999999999998,291.22399999999999,299.83,299.06666666666666,295,297.82584756208701,10.46350000000001,280,310,100.2177656506811]
[1,300.8125,293.23079999999993,298.66000000000003,295.33,300.30172413793099,302.97777777777782,295.8,290.90199999999999,299.11,295.52941176470586,295,297.26542136804147,12.07577777777783,280,310,100.02918342573621]
[2,298.8125,291.55500000000001,300.14999999999998,293.95999999999998,304.18275862068975,301.88095238095235,292.2,292.32100000000003,296.64999999999998,294.89473684210526,295,296.66069478437475,12.627758620689747,280,310,99.825694213699251]
[3,298.59375,293.20681818181816,298.86,294.56,302.76666666666671,301.61309523809513,292.39999999999998,289.64800000000002,298.94,303.89999999999998,295,297.44883300865803,14.251999999999953,280,310,100.0909010535626]
[4,296.65625,293.42165,null,295.41000000000003,302.23333333333323,299.89130434782606,292.3,289.85500000000002,303.20999999999998,null,295,296.62219221014493,13.354999999999961,280,310,99.812738179182119]
[5,296.65625,292.5675,null,295.51,294.51,298.14285714285717,294.3,294.81700000000001,303.56,null,295,296.25795089285714,{"$f":"MAX(B18:K18)-MIN(B18:K18)","v":10.992500000000007},280,310,{"$f":"M18/M$3*100","v":99.690171748917408}]
[6,null,null,null,null,null,null,null,null,null,null,295,null,{"$f":"MAX(B19:K19)-MIN(B19:K19)","v":0},280,310,{"$f":"M19/M$3*100","v":0}]
[7,null,null,null,null,null,null,null,null,null,null,295,null,{"$f":"MAX(B20:K20)-MIN(B20:K20)","v":0},280,310,{"$f":"M20/M$3*100","v":0}]

{"sheet":"rGT","index":6,"n_rows":20,"n_cols":17,"rows_kept":20,"cut":false,"hidden":false,"merged":[]}
[null,null,null,null,null,"r-GT"]
["月","千葉大","がんｾﾝﾀｰ","船橋中央","県立佐原","千葉ﾘﾊﾋﾞﾘ","順大浦安","千葉青葉","東歯大市川","千葉MC","こども病院","認証値","10病院平均","R","下限","上限","2015.02月値を100％に対する変化率"]
[2,null,null,71.349999999999994,71.03,null,70,null,70.638999999999996,null,null,71,{"$f":"AVERAGE(B3:K3)","v":70.754750000000001},{"$f":"MAX(B3:K3)-MIN(B3:K3)","v":1.3499999999999943},67,75,{"$f":"M3/M3*100","v":100}]
[3,70.888888888888886,69.649090909090916,71.8,71.08,71.737037037037027,70.333333333333329,71.3,70.494,72.17,70,71,70.945235016835014,2.5209090909090861,67,75,{"$f":"M4/M$3*100","v":100.2692186981581}]
[4,70.407407407407405,69.847999999999985,71.599999999999994,71.41,71.740322580645142,72.352564102564102,71.8,70.275000000000006,72.53,70.590909090909093,71,71.255420318152574,2.6820000000000164,67,75,{"$f":"M5/M$3*100","v":100.70761371943591}]
[5,70.444444444444443,69.859444444444449,71.790000000000006,71.41,71.891379310344846,72.323232323232318,71.3,70.459000000000003,72.53,69.95,71,71.195750052246609,2.670555555555552,67,75,100.62327978297799]
[6,70.666666666666671,70.023181818181811,70.8,72.02,71.285483870967738,72.61999999999999,70,70.58,73,69.900000000000006,71,71.089533235581627,3.0999999999999943,67,75,100.47316008548066]
[7,71.4375,70.631499999999988,69.67,71.459999999999994,71.775000000000006,69.693333333333328,69.8,71.081000000000003,72.98,69,71,70.752833333333328,3.980000000000004,67,75,99.997291112375251]
[8,70.78125,70.260454545454536,69.89,71.37,70.59666666666665,68.71052631578948,70.7,70.320999999999998,72.37,70.727272727272734,71,70.572717025518344,3.6594736842105249,67,75,99.742726849460055]
[9,71.09375,70.149473684210534,69.95,71.260000000000005,70.609523809523807,68.76136363636364,70.8,70.286000000000001,70.91,69.590909090909093,71,70.341102022100699,2.4986363636363649,67,75,99.415377797392679]
[10,70.40625,70.401499999999999,70.56,71.19,70.986206896551735,69.222222222222229,70.599999999999994,71.066999999999993,71.209999999999994,69.411764705882348,71,70.505494382465628,1.9877777777777652,67,75,99.647718891615938]
[11,70.65625,70.277500000000003,70.45,71.489999999999995,71.372222222222234,70.25,70.5,70.617999999999995,72.14,71.349999999999994,71,70.910397222222215,1.8900000000000006,67,75,100.21998130474945]
[12,70.96875,70.365285714285719,70.89,71.39,71.616666666666688,70.416666666666671,71,71.36,72.44,71.25,71,71.169736904761905,2.0747142857142791,67,75,100.58651455169003]
[1,70.09375,70.023399999999995,70.66,71.02,71.196491228070172,70.477777777777789,70.400000000000006,71.281999999999996,72.8,71.705882352941174,71,70.965930135878907,2.776600000000002,67,75,100.29846778609055]
[2,70.09375,70.082499999999996,70.81,71.02,71.643859649122817,70.354166666666657,70.900000000000006,71.825999999999993,72.099999999999994,71.4375,71,71.026777631578938,2.0174999999999983,67,75,100.38446553988098]
[3,70.25,69.984409090909082,70.77,71.209999999999994,71.398333333333341,70.139880952380949,71.599999999999994,70.441999999999993,71.48,70.75,71,70.802462337662334,1.615590909090912,67,75,100.0674334057605]
[4,70.4375,70.3583,null,70.83,71.55094339622643,70.463768115942031,71.099999999999994,70.177000000000007,71.099999999999994,null,71,70.752188939021067,1.3739433962264229,67,75,99.996380368838928]
[5,70.5625,70.209149999999994,null,70.709999999999994,70.939655172413779,70,70.900000000000006,71.048000000000002,71.13,null,71,70.687413146551719,{"$f":"MAX(B18:K18)-MIN(B18:K18)","v":1.1299999999999955},67,75,{"$f":"M18/M$3*100","v":99.904830624872133}]
[6,null,null,null,null,null,null,null,null,null,null,71,null,{"$f":"MAX(B19:K19)-MIN(B19:K19)","v":0},67,75,{"$f":"M19/M$3*100","v":0}]
[7,null,null,null,null,null,null,null,null,null,null,71,null,{"$f":"MAX(B20:K20)-MIN(B20:K20)","v":0},67,75,{"$f":"M20/M$3*100","v":0}]

{"sheet":"AMY","index":7,"n_rows":20,"n_cols":17,"rows_kept":20,"cut":false,"hidden":false,"merged":[]}
[null,null,null,null,null,"AMY"]
["月","千葉大","がんｾﾝﾀｰ","船橋中央","県立佐原","千葉ﾘﾊﾋﾞﾘ","順大浦安","千葉青葉","東歯大市川","千葉MC","こども病院","認証値","8病院平均","R","下限","上限","2015.02月値を100％に対する変化率"]
[2,null,null,218.22,241.09,null,233.875,null,217.97200000000001,null,null,236,{"$f":"AVERAGE(B3:C3,E3,F3,G3,H3,J3,K3)","v":237.48250000000002},{"$f":"MAX(B3:K3)-MIN(B3:K3)","v":23.117999999999995},224,248,{"$f":"M3/M3*100","v":100}]
[3,231.25925925925927,237.99909090909088,218.75,240.9,244,233.6,235,218.16900000000001,242.21,234.65384615384616,236,237.45277454027453,25.830999999999989,224,248,{"$f":"M4/M$3*100","v":99.987483094659396}]
[4,232.03703703703704,236.56799999999998,218.32,240.8,244.77868852459011,236.47435897435895,235.4,219.77500000000001,240.6,236.13636363636363,236,237.84930602154373,26.458688524590116,224,248,{"$f":"M5/M$3*100","v":100.15445602161999}]
[5,231.62962962962962,237.20833333333334,217.34,241.59,242.6122807017544,236.42424242424244,236.6,218.61199999999999,243.1,234.7,236,237.98306076111996,25.759999999999991,224,248,100.21077795674205]
[6,231.55555555555554,236.34272727272727,217.07,240.26,241.6476923076923,236.65454545454548,243.1,218.875,243.9,234.47619047619048,236,238.49208888333891,26.830000000000013,224,248,100.42512138087602]
[7,231.8125,233.35949999999997,214,238.96,241.11,236.89837398373982,242.8,220.81399999999999,246.16,233.35294117647058,236,238.05666439502627,32.159999999999997,224,248,100.241771244208]
[8,231.25,232.67636363636367,214.95,238.07,241.14153846153852,234.89473684210526,241.5,219.988,242.56,233.54545454545453,236,236.95476168568274,27.610000000000014,224,248,99.7777780197205]
[9,230.78125,231.62947368421052,214.3,239.02,241.89531250000007,235.61363636363637,243.9,220.131,240.88,233.77272727272728,236,237.18654997757179,29.599999999999994,224,248,99.87538028173519]
[10,231.03125,231.62550000000002,215.72,240.7,240.82,234.26984126984124,244.6,222.80600000000001,241.87,234.28571428571428,236,237.40028819444439,28.879999999999995,224,248,99.96538195212041]
[11,231.84375,232.48150000000001,220.03,242.77,239.70500000000001,234.15942028985509,244.3,221.34700000000001,244.33,236.15,236,238.21745878623187,24.300000000000011,224,248,100.30947913477071]
[12,233.21875,232.64185714285711,221.89,241.6,241.42280701754379,235.780303030303,241.3,219.642,244.07,236,236,238.25421464883797,24.427999999999997,224,248,100.32495642787909]
[1,233.8125,232.85084999999995,222.53,240.7,241.98103448275862,236.57777777777775,241.3,220.346,244.26,235.35294117647058,236,238.35438792962583,23.913999999999987,224,248,100.36713775946684]
[2,233.53125,235.27664999999996,222.62,240.07,242.27288135593221,237.08928571428572,241.7,219.23400000000001,240.84,236.73684210526315,236,238.43961364693513,23.038881355932205,224,248,100.40302491633493]
[3,232.875,233,221.48,234.86,242.96363636363634,235.70238095238093,240.4,218.75,239.56,236.73333333333332,236,237.01179383116883,24.21363636363634,224,248,99.801793324210763]
[4,232.03125,235.15,null,234.99,240.87192982456145,234.34057971014497,237.7,218.53200000000001,235.81,null,236,235.84196564781519,22.339929824561437,224,248,99.309197792601637]
[5,233.53125,232.47749999999999,null,237.7,242.06724137931033,230.52380952380952,239.5,218.476,237.7,null,236,236.21425727187426,{"$f":"MAX(B18:K18)-MIN(B18:K18)","v":23.591241379310333},224,248,{"$f":"M18/M$3*100","v":99.465963711799503}]
[6,null,null,null,null,null,null,null,null,null,null,236,null,{"$f":"MAX(B19:K19)-MIN(B19:K19)","v":0},224,248,{"$f":"M19/M$3*100","v":0}]
[7,null,null,null,null,null,null,null,null,null,null,236,null,{"$f":"MAX(B20:K20)-MIN(B20:K20)","v":0},224,248,{"$f":"M20/M$3*100","v":0}]

{"sheet":"CHE","index":8,"n_rows":20,"n_cols":17,"rows_kept":20,"cut":false,"hidden":false,"merged":[]}
[null,null,null,null,null,"CHE"]
["月","千葉大","がんｾﾝﾀｰ","船橋中央","県立佐原","千葉ﾘﾊﾋﾞﾘ","順大浦安","千葉青葉","東歯大市川","千葉MC","こども病院","認証値","10病院平均","R","下限","上限","2015.02月値を100％に対する変化率"]
[2,null,null,312.35000000000002,314.51,null,312.13888888888891,null,307.77800000000002,null,null,309,{"$f":"AVERAGE(B3:K3)","v":311.69422222222227},{"$f":"MAX(B3:K3)-MIN(B3:K3)","v":6.7319999999999709},293,325,{"$f":"M3/M3*100","v":100}]
[3,305.85185185185185,304.89272727272726,310.91000000000003,314.44,305.76896551724133,313.36,304.3,306.39800000000002,307.83,309.14285714285717,309,308.28944017846783,10.139999999999986,293,325,{"$f":"M4/M$3*100","v":98.907653141761799}]
[4,304.96296296296299,306.23250000000002,308.7,315.20999999999998,308.8,305.35897435897436,303.7,310.3,307.20999999999998,311.42105263157896,309,308.18954899535163,11.509999999999991,293,325,{"$f":"M5/M$3*100","v":98.875605328233519}]
[5,306.81481481481484,307.12888888888887,310.76,314.63,308.25254237288141,305.31720430107521,304.2,310.17599999999999,308.69,309.94736842105266,309,308.59168187987126,10.430000000000007,293,325,99.004620515506687]
[6,308.2962962962963,306.77545454545458,308.58999999999997,313.89999999999998,308.79846153846142,304.07547169811323,308.7,310.45499999999998,308.89999999999998,310,309,308.84906840783253,9.824528301886744,293,325,99.087197127330356]
[7,306.6875,305.95350000000002,306.23,312.88,307.95737700000001,309.53252032520328,308.2,310.291,308,308.90909090909093,309,308.46409882342948,6.9264999999999759,293,325,98.963688394425901]
[8,304.65625,310.45954545454543,306.93,312.85000000000002,307.38769230769225,310.85087719298241,307.8,308.94,306.56,308.54545454545456,309,308.49798195006747,8.1937500000000227,293,325,98.974559024749581]
[9,306.125,307.58315789473681,307.35000000000002,313.37,308.06923076923084,310.22348484848487,307.5,308.83699999999999,304.55,307.77272727272725,309,308.13806007851798,8.8199999999999932,293,325,98.859086280666148]
[10,307.3125,304.80900000000008,309.48,305.73,306.50175438596494,309.89682539682536,307.39999999999998,305.476,308.67,306.8,309,307.20760797827904,5.0878253968252807,293,325,98.560571892556766]
[11,307.4375,307.89749999999998,310.35000000000002,306.11,306.74833333333333,307.86956521739125,307.8,306.363,307.12,308.39999999999998,309,307.60958985507244,4.2400000000000091,293,325,98.689538632436481]
[12,306.84375,304.88628571428569,311.06,306.26,308.0842105263157,306.780303030303,306.60000000000002,308.70699999999999,309.67,308.625,309,307.75165492709044,6.1737142857143112,293,325,98.735116978741758]
[1,305,303.8433,310.97000000000003,304.29000000000002,307.12807017543867,307.83333333333331,306,308.80200000000002,309.02999999999997,308,309,307.08967035087727,7.126700000000028,293,325,98.522734287945141]
[2,306.6875,304.77249999999998,310.74,304.25,307.49152542372883,307.29761904761909,307,309.10300000000001,308.88,309.15789473684208,309,307.53800392081899,6.4900000000000091,293,325,98.666571914047196]
[3,305.90625,306.89545454545458,311.57,301.11,308.22968750000001,306.51785714285717,308.10000000000002,307.68700000000001,304.14,309.16666666666669,309,306.93229158549781,10.45999999999998,293,325,98.472242891519031]
[4,305.78125,307.40084999999999,null,301.04000000000002,309.93620689655171,306.03260869565219,307.10000000000002,308.06299999999999,301.02,null,309,305.79673944902549,8.9162068965517278,293,325,98.107926822912944]
[5,306.40625,306.01915000000002,null,301.14,306.35087719298241,310.1904761904762,305.3,307.36599999999999,300.74,null,309,305.4390941729323,{"$f":"MAX(B18:K18)-MIN(B18:K18)","v":9.4504761904761949},293,325,{"$f":"M18/M$3*100","v":97.993184472687986}]
[6,null,null,null,null,null,null,null,null,null,null,309,null,{"$f":"MAX(B19:K19)-MIN(B19:K19)","v":0},293,325,{"$f":"M19/M$3*100","v":0}]
[7,null,null,null,null,null,null,null,null,null,null,309,null,{"$f":"MAX(B20:K20)-MIN(B20:K20)","v":0},293,325,{"$f":"M20/M$3*100","v":0}]

{"sheet":"TCH","index":9,"n_rows":20,"n_cols":17,"rows_kept":20,"cut":false,"hidden":false,"merged":[]}
[null,null,null,null,null,"TCH"]
["月","千葉大","がんｾﾝﾀｰ","船橋中央","県立佐原","千葉ﾘﾊﾋﾞﾘ","順大浦安","千葉青葉","東歯大市川","千葉MC","こども病院","認証値","10病院平均","R","下限","上限","2015.02月値を100％に対する変化率"]
[2,null,null,142.80000000000001,138.97999999999999,null,142.08333333333334,null,142.75,null,null,141,{"$f":"AVERAGE(B3:K3)","v":141.65333333333334},{"$f":"MAX(B3:K3)-MIN(B3:K3)","v":3.8200000000000216},133,149,{"$f":"M3/M3*100","v":100}]
[3,141.14814814814815,141.50954545454545,142.63999999999999,138.91,143.3241379310345,141.78260869565219,140.5,143.72300000000001,139.38,140.90625,141,141.38236902293801,4.8130000000000166,133,149,{"$f":"M4/M$3*100","v":99.808713071539444}]
[4,140.96296296296296,141.82050000000001,141.9,139.01,143.64687499999999,141.25641025641025,140.9,142.31299999999999,138.87,141.04545454545453,141,141.17252027648277,4.7768749999999898,133,149,{"$f":"M5/M$3*100","v":99.660570601809184}]
[5,141.7037037037037,142.09,141.74,138.74,143.16949152542375,141.52604166666666,140.30000000000001,141.553,140.69,140.35,141,141.18622368957941,4.4294915254237424,133,149,99.670244509774619]
[6,140.66666666666666,140.97636363636363,141.86000000000001,138.56,143.69999999999999,142.33490566037739,141.4,142.5,141.5,140.23809523809524,141,141.37360312015028,5.1399999999999864,133,149,99.802524793027771]
[7,140.25,141.04400000000001,141.28,139.1,144.44098360000001,141.77927927927931,141.69999999999999,142.18600000000001,141.44,140.29411764705881,141,141.3514380526338,5.3409836000000155,133,149,99.786877390319418]
[8,140.21875,141.55818181818179,142.19999999999999,138.49,143.32187500000001,142.02631578947367,139.19999999999999,141.238,139.88999999999999,140,141,140.81431226076558,4.8318749999999966,133,149,99.407694084689552]
[9,140.1875,141.01,142.07,139.13999999999999,143.12888888888887,142.56060606060606,138.5,143.09299999999999,137.81,140.36363636363637,141,140.78636313131315,5.3188888888888641,133,149,99.387963430426268]
[10,140.65625,142.18700000000001,141.51,139.28,143.32459016393443,143.0625,139.1,141.77000000000001,139.57,140.36842105263159,141,141.08287612165662,4.2245901639344368,133,149,99.597286418714674]
[11,140.34375,143.1925,141.57,139.47,144.15166666666673,143.81060606060603,140.30000000000001,140.80000000000001,140.63999999999999,141,141,141.52785227272724,4.6816666666667288,133,149,99.911416796447128]
[12,141.09375,141.89861904761906,142.38999999999999,139.80000000000001,143.81052631578945,143.78703703703704,140.69999999999999,139.78800000000001,141.11000000000001,141.3125,141,141.56904324004455,4.0225263157894346,133,149,99.94049551019711]
[1,140.84375,142.1583,141.21,139.06,143.54482758620694,143.04166666666666,140.4,139.012,141.79,140.52941176470588,141,141.15899560175794,4.5328275862069347,133,149,99.651022873981972]
[2,140.71875,142.29664999999997,142.1,138.08000000000001,142.75833333333333,143.83333333333334,141.19999999999999,140.22800000000001,140.85,140.47368421052633,141,141.25387508771931,5.7533333333333303,133,149,99.718002932783762]
[3,140.6875,142.15077272727274,141.69999999999999,138.77000000000001,142.39375000000001,143.60897435897434,140.9,139.88200000000001,139.72999999999999,140.55555555555554,141,141.03785526418028,4.8389743589743262,133,149,99.565503998621239]
[4,140.53125,142.99420000000003,null,140.88,143.58965517241384,142.93518518518519,142.30000000000001,140.54400000000001,140.08000000000001,null,141,141.7317862946999,3.5096551724138294,133,149,100.05538377355509]
[5,140.625,141.76499999999999,null,140.22999999999999,142.57118644067802,142.15,144.19999999999999,140.78299999999999,140.19999999999999,null,141,141.56552330508475,{"$f":"MAX(B18:K18)-MIN(B18:K18)","v":4},133,149,{"$f":"M18/M$3*100","v":99.938010616353125}]
[6,null,null,null,null,null,null,null,null,null,null,141,null,{"$f":"MAX(B19:K19)-MIN(B19:K19)","v":0},133,149,{"$f":"M19/M$3*100","v":0}]
[7,null,null,null,null,null,null,null,null,null,null,141,null,{"$f":"MAX(B20:K20)-MIN(B20:K20)","v":0},133,149,{"$f":"M20/M$3*100","v":0}]

{"sheet":"TG","index":10,"n_rows":20,"n_cols":17,"rows_kept":20,"cut":false,"hidden":false,"merged":[]}
[null,null,null,null,null,"TG"]
["月","千葉大","がんｾﾝﾀｰ","船橋中央","県立佐原","千葉ﾘﾊﾋﾞﾘ","順大浦安","千葉青葉","東歯大市川","千葉MC","こども病院","認証値","10病院平均","R","下限","上限","2015.02月値を100％に対する変化率"]
[2,null,null,49.88,48.72,null,49.75,null,50.457999999999998,null,null,50,{"$f":"AVERAGE(B3:K3)","v":49.701999999999998},{"$f":"MAX(B3,D3,E3,I3)-MIN(B3,D3,E3,I3)","v":1.7379999999999995},47,53,{"$f":"M3/M3*100","v":100}]
[3,51.962962962962962,49.348636363636359,49.64,48.66,50.210344827586226,49.42307692307692,50.5,50.606000000000002,48.01,50.863636363636367,50,49.922465744089877,3.3029629629629653,47,53,{"$f":"M4/M$3*100","v":100.44357519635001}]
[4,51.777777777777779,49.455500000000008,49.92,48.68,50.2109375,49.647435897435905,50.6,50.579000000000001,48,50.6875,50,49.955815117521368,3.0977777777777789,47,53,{"$f":"M5/M$3*100","v":100.51067385119588}]
[5,51.888888888888886,49.675555555555555,49.05,48.13,50.679661016949161,49.232323232323225,50.2,49.725999999999999,48.47,52,50,49.905242869371683,3.7588888888888832,47,53,100.40892291934264]
[6,51.814814814814817,49.202272727272728,49.25,48.34,51.195384615384626,49.5,50.1,49.625,49.4,51.833333333333336,50,50.026080549080547,3.4748148148148132,47,53,100.65204730006951]
[7,51.78125,48.953499999999991,49.05,48.17,50.74590164,50.475000000000001,49.8,49.24,49.15,52.058823529411768,50,49.942447516941179,3.6112499999999983,47,53,100.48377835286544]
[8,51.6875,48.992727272727286,48.95,47.93,50.762500000000003,49.982456140350877,49.5,49.125,49,52.31818181818182,50,49.824836523125995,{"$f":"MAX(B9,D9,E9,F9,I9)-MIN(B9,D9,E9,F9,I9)","v":3.7575000000000003},47,53,100.24714603663031]
[9,51.84375,49.932631578947365,48.95,48.24,50.857575757575752,49.651515151515156,49.7,50.231999999999999,48.6,51.954545454545453,50,49.996201794258369,{"$f":"MAX(B10,D10,E10,F10,I10)-MIN(B10,D10,E10,F10,I10)","v":3.603749999999998},47,53,100.59193150025827]
[10,51.59375,49.832500000000003,48.62,48.23,50.975409836065573,49.785714285714285,49.6,49.533000000000001,49.8,51.611111111111114,50,49.958148523289104,{"$f":"MAX(B11,D11,E11,F11,I11)-MIN(B11,D11,E11,F11,I11)","v":3.3637500000000031},47,53,100.51536864369464]
[11,51.9375,49.827500000000001,48.9,48.3,51.23,50.398550724637673,49.6,49.328000000000003,49.89,52.3,50,50.171155072463769,{"$f":"MAX(B12,D12,E12,F12,H12,I12)-MIN(B12,D12,E12,F12,H12,I12)","v":3.6375000000000028},47,53,100.94393600350845]
[12,51.96875,49.19195238095238,49.11,48.34,50.898245614035091,50.43181818181818,50,48.542999999999999,50.31,50.3125,50,49.910626617680563,3.6287499999999966,47,53,100.41975497501221]
[1,51.90625,49.58829999999999,48.66,47.3,51.053448275862067,51.19047619047619,49.3,48.32,50.48,52.058823529411768,50,49.985729799575005,4.6062500000000028,47,53,100.5708619362903]
[2,51.96875,49.485799999999998,49,47.9,50.68,50.562500000000007,49,48.381999999999998,50.52,51.789473684210527,50,49.928852368421055,4.0687500000000014,47,53,100.45642503002104]
[3,52.0625,49.36518181818181,49.89,48.15,50.419402985074626,50.573333333333331,49.7,48.232999999999997,49.84,52.222222222222221,50,50.045564035881199,3.9125000000000014,47,53,100.69124790930184]
[4,51.96875,49.522500000000001,null,48.82,50.753448275862056,50.376811594202898,50.4,49.393999999999998,48.83,null,50,50.008188733758118,3.1487499999999997,47,53,100.61604912027306]
[5,51.96875,49.806650000000005,null,49.24,50.733898305084757,49.047619047619051,51.9,49.558999999999997,49,null,50,50.156989669087977,{"$f":"MAX(B18:K18)-MIN(B18:K18)","v":2.96875},47,53,{"$f":"M18/M$3*100","v":100.9154353327592}]
[6,null,null,null,null,null,null,null,null,null,null,50,null,{"$f":"MAX(B19:K19)-MIN(B19:K19)","v":0},47,53,{"$f":"M19/M$3*100","v":0}]
[7,null,null,null,null,null,null,null,null,null,null,50,null,{"$f":"MAX(B20:K20)-MIN(B20:K20)","v":0},47,53,{"$f":"M20/M$3*100","v":0}]

{"sheet":"HDL","index":11,"n_rows":20,"n_cols":22,"rows_kept":20,"cut":false,"hidden":false,"merged":[]}
[null,null,null,null,null,"HDL"]
["月","千葉大","がんｾﾝﾀｰ","船橋中央","県立佐原","千葉ﾘﾊﾋﾞﾘ","順大浦安","千葉青葉","東歯大市川","千葉MC","こども病院","協和認証値","協和平均","R","積水認証値","積水平均","R","協和下限","協和上限","積水下限","積水上限","2015.02月値を100％に対する変化率"]
[2,null,null,50.73,49.61,null,50.788888888888891,null,49.997,null,null,43,null,{"$f":"MAX(B3,C3,F3,K3)-MIN(B3,C3,F3,K3)","v":0},50,{"$f":"AVERAGE(C3,D3,E3,G3,H3,I3,J3,K3)","v":50.28147222222222},{"$f":"MAX(D3,E3,G3,I3,J3)-MIN(D3,E3,G3,I3,J3)","v":1.178888888888892},40,46,47,53,{"$f":"P3/P3*100","v":100}]
[3,43.685185185185176,49.757727272727287,50.18,49.9,43.041379310344823,50.956000000000003,47.7,50.792999999999999,49.78,50.38,43,{"$f":"AVERAGE(B4,F4)","v":43.363282247765},7.3386206896551798,50,49.930840909090904,1.1760000000000019,40,46,47,53,{"$f":"P4/P$3*100","v":99.302662993673536}]
[4,43.37407407407408,50.109500000000004,49.92,50,43.256250000000001,49.54466666666665,48.3,50.52,49.49,50.375,43,43.315162037037041,7.1187499999999986,50,49.782395833333332,1.0300000000000011,40,46,47,53,{"$f":"P5/P$3*100","v":99.007434812801051}]
[5,43.051851851851843,49.963333333333338,50.05,49.89,43.013559322033927,49.578282828282823,48.3,50.164000000000001,50.41,50.773684210526298,43,43.032705586942882,7.7601248884923706,50,49.891162546517805,0.83171717171717319,40,46,47,53,99.223750502015108]
[6,42.870370370370374,49.757727272727287,49.8,49.99,43.084615384615397,49.786666666666669,49.1,49.093000000000004,50.53,51.1,43,42.977492877492885,8.2296296296296276,50,49.894674242424244,1.4369999999999976,40,46,47,53,99.230734577363805]
[7,43.246874999999996,49.770500000000006,49.73,49.76,43.03934426,49.653728070175447,49.3,49.113999999999997,50.51,49.955555555555563,43,43.143109629999998,6.9162112955555628,50,49.724222953216376,1.3960000000000008,40,46,47,53,98.891740348128536]
[8,43.121874999999996,49.953181818181832,50.18,49.4,42.737499999999997,49.893859649122817,49.6,49.238999999999997,50.24,50.218181818181826,43,42.9296875,7.4806818181818286,50,49.840527910685815,1.0010000000000048,40,46,47,53,99.12304812876674]
[9,42.684375000000003,50.546315789473681,50.27,49.93,42.790909090909096,50.056060606060605,49.7,50.048000000000002,50.18,50.384615384615394,43,42.73764204545455,7.8619407894736781,50,50.139373972518719,0.34000000000000341,40,46,47,53,99.71739441304446]
[10,42.887500000000003,50.424999999999997,49.77,49.9,42.745901639344254,50.550000000000004,50.1,49.902999999999999,49.68,50.611764705882344,43,42.816700819672128,7.8658630665380898,50,50.1174705882353,0.87000000000000455,40,46,47,53,99.673832871754215]
[11,43.175000000000004,50.576499999999996,49.8,49.74,42.95573770491805,50.084057971014495,49.9,49.930999999999997,49.69,50.637499999999996,43,43.065368852459031,7.6817622950819455,50,50.044882246376808,0.39405797101449735,40,46,47,53,99.529468877124785]
[12,42.949999999999996,50.70190476190475,50.54,49.76,42.905263157894758,50.24848484848485,49.5,50.194000000000003,49.58,50.881250000000009,43,{"$f":"AVERAGE(B13,F13)","v":42.927631578947377},{"$f":"MAX(B13,C13,F13,K13)-MIN(B13,C13,F13,K13)","v":7.9759868421052502},50,50.175704951298698,0.96000000000000085,40,46,47,53,99.789649613964997]
[1,43.131250000000001,50.719949999999997,49.79,49.6,43.182758620689661,50.561111111111103,49.4,50.28,49.84,50.276470588235298,43,{"$f":"AVERAGE(B14,F14)","v":43.157004310344831},{"$f":"MAX(B14,C14,F14,K14)-MIN(B14,C14,F14,K14)","v":7.5886999999999958},50,50.058441462418301,0.96111111111110148,40,46,47,53,99.556435502090665]
[2,42.890624999999986,49.643350000000005,49.98,49.65,42.91,50.513690476190483,49.4,49.713000000000001,49.46,50.110526315789471,43,{"$f":"AVERAGE(B15,F15)","v":42.900312499999991},7.2199013157894854,50,49.808820848997492,1.0536904761904822,40,46,47,53,99.059988993289977]
[3,43.178124999999987,50.089363636363629,49.84,49.73,42.934328358208944,50.091666666666676,49.2,49.704000000000001,49.39,50.26,43,{"$f":"AVERAGE(B16,F16)","v":43.056226679104469},7.3256716417910539,50,49.788128787878783,0.7016666666666751,40,46,47,53,99.01883653652169]
[4,42.840624999999996,49.972499999999997,null,49.43,42.966666666666683,50.495652173913051,49.7,49.206000000000003,50.48,null,43,{"$f":"AVERAGE(B17,F17)","v":42.903645833333343},7.1318750000000009,50,49.880692028985514,1.2896521739130478,40,46,47,53,99.202926693424104]
[5,42.899999999999991,50.181699999999992,null,49.65,42.864406779661003,50.984999999999999,50.6,49.701999999999998,50.18,null,43,{"$f":"AVERAGE(B18,F18)","v":42.882203389830494},{"$f":"MAX(B18,C18,F18,K18)-MIN(B18,C18,F18,K18)","v":7.3172932203389891},50,50.216449999999988,{"$f":"MAX(D18,E18,G18,I18,J18)-MIN(D18,E18,G18,I18,J18)","v":1.3350000000000009},40,46,47,53,99.870683535408702]
[6,null,null,null,null,null,null,null,null,null,null,43,null,{"$f":"MAX(B19,C19,F19,K19)-MIN(B19,C19,F19,K19)","v":0},50,null,{"$f":"MAX(D19,E19,G19,I19,J19)-MIN(D19,E19,G19,I19,J19)","v":0},40,46,47,53,0]
[7,null,null,null,null,null,null,null,null,null,null,43,null,{"$f":"MAX(B20,C20,F20,K20)-MIN(B20,C20,F20,K20)","v":0},50,null,{"$f":"MAX(D20,E20,G20,I20,J20)-MIN(D20,E20,G20,I20,J20)","v":0},40,46,47,53,0]

{"sheet":"TBIL","index":12,"n_rows":20,"n_cols":17,"rows_kept":20,"cut":false,"hidden":false,"merged":[]}
[null,null,null,null,null,"TBIL"]
["月","千葉大","がんｾﾝﾀｰ","船橋中央","県立佐原","千葉ﾘﾊﾋﾞﾘ","順大浦安","千葉青葉","東歯大市川","千葉MC","こども病院","認証値","10病院平均","R","下限","上限","2015.02月値を100％に対する変化率"]
[2,null,null,1.972,2.04,null,1.9205263157894739,null,1.9259999999999999,null,null,2,{"$f":"AVERAGE(B3:K3)","v":1.9646315789473685},{"$f":"MAX(B3:K3)-MIN(B3:K3)","v":0.11947368421052618},1.8,2.2000000000000002,{"$f":"M3/M3*100","v":100}]
[3,1.9111111111111105,2.086727272727273,1.968,2.0499999999999998,2.0482758620689654,1.9308333333333332,2.0299999999999998,1.9219999999999999,2,1.9709677419354834,2,1.9917915321176161,0.17561616161616245,1.8,2.2000000000000002,{"$f":"M4/M$3*100","v":101.38244510885851}]
[4,1.923333333333334,2.0945499999999999,1.998,2.0499999999999998,2.0487500000000001,1.9552564102564103,2.0299999999999998,1.919,1.99,1.9136363636363631,2,1.9922526107226104,0.18091363636363678,1.8,2.2000000000000002,{"$f":"M5/M$3*100","v":101.40591406914272}]
[5,1.9255555555555559,2.0892777777777778,1.9390000000000001,2.04,1.9877966101694913,1.9624479166666664,2.0299999999999998,1.9079999999999999,1.95,1.8999999999999992,2,1.973207786016949,0.18927777777777854,1.8,2.2000000000000002,100.43653004265438]
[6,1.9196296296296298,2.0974090909090912,1.984,2.0499999999999998,1.9884615384615376,1.9613787878787874,2.0099999999999998,1.8779999999999999,1.97,1.9142857142857137,2,1.9773164761164761,0.21940909090909133,1.8,2.2000000000000002,100.64566289705594]
[7,1.9068749999999988,2.1046000000000005,1.972,2.0699999999999998,1.9719672130000001,1.9562398373983729,2.0099999999999998,1.857,1.99,1.8999999999999995,2,1.9738682050398366,0.24760000000000049,1.8,2.2000000000000002,100.47014545584251]
[8,1.9134374999999992,2.0919545454545454,1.9665999999999999,2.0699999999999998,1.9916923076923079,1.9455555555555557,2.04,1.87,1.94,1.9227272727272726,2,1.9751967181429682,0.22195454545454529,1.8,2.2000000000000002,100.53776694362514]
[9,1.9009374999999995,2.0648421052631578,1.9650000000000001,2.04,2.02296875,1.9471212121212118,2.0499999999999998,1.873,1.91,1.8954545454545446,2,1.9669324112838911,0.19184210526315781,1.8,2.2000000000000002,100.11711266179258]
[10,1.8971874999999998,2.0481500000000001,1.9,2.04,1.9709999999999999,1.9496825396825395,2.032,1.887,1.97,1.8952380952380947,2,1.9590258134920635,0.16115000000000013,1.8,2.2000000000000002,99.714665817480736]
[11,1.9049999999999996,2.0488,1.9,2.02,1.9743333333333331,1.9531159420289854,2.0299999999999998,1.891,2,1.9099999999999995,2,1.9632249275362317,0.15779999999999994,1.8,2.2000000000000002,99.928401262292113]
[12,1.9306249999999998,2.0568571428571429,1.9,2.06,1.9608928571428568,1.9563636363636361,2.0299999999999998,1.9119999999999999,2,1.9562499999999996,2,1.9762988636363636,0.16000000000000014,1.8,2.2000000000000002,100.59386629096363]
[1,1.9356249999999995,2.0556999999999999,1.9,2.0499999999999998,1.9718965517241378,1.9409999999999998,2.0099999999999998,1.899,2,1.9294117647058817,2,1.9692633316430019,0.15669999999999984,1.8,2.2000000000000002,100.23575680780388]
[2,1.9328125,2.0448999999999997,1.9,2.0499999999999998,1.9881355932203386,1.9404166666666671,2.0299999999999998,1.8919999999999999,1.99,1.9736842105263157,2,1.9741948970413319,0.15799999999999992,1.8,2.2000000000000002,100.48677412072789]
[3,1.9353125000000004,2.0449999999999999,1.907,2.04,1.9751612903225806,1.9449702380952378,2.0099999999999998,1.9059999999999999,1.97,1.9111111111111105,2,1.964455513952893,0.13900000000000001,1.8,2.2000000000000002,99.991038269141029]
[4,1.9209375000000006,2.0427500000000003,null,2.0499999999999998,1.9922807017543858,1.9522463768115947,2.0299999999999998,1.8919999999999999,1.93,null,2,1.9762768223207474,0.15799999999999992,1.8,2.2000000000000002,100.59274438516448]
[5,1.9246875000000006,2.0372499999999993,null,2.04,1.967931034482759,1.9328571428571426,2.0169999999999999,1.877,1.99,null,2,1.9733407096674878,{"$f":"MAX(B18:K18)-MIN(B18:K18)","v":0.16300000000000003},1.8,2.2000000000000002,{"$f":"M18/M$3*100","v":100.44329587355942}]
[6,null,null,null,null,null,null,null,null,null,null,2,null,{"$f":"MAX(B19:K19)-MIN(B19:K19)","v":0},1.8,2.2000000000000002,{"$f":"M19/M$3*100","v":0}]
[7,null,null,null,null,null,null,null,null,null,null,2,null,{"$f":"MAX(B20:K20)-MIN(B20:K20)","v":0},1.8,2.2000000000000002,{"$f":"M20/M$3*100","v":0}]

{"sheet":"TP","index":13,"n_rows":20,"n_cols":17,"rows_kept":20,"cut":false,"hidden":false,"merged":[]}
[null,null,null,null,null,"TP"]
["月","千葉大","がんｾﾝﾀｰ","船橋中央","県立佐原","千葉ﾘﾊﾋﾞﾘ","順大浦安","千葉青葉","東歯大市川","千葉MC","こども病院","認証値","10病院平均","R","下限","上限","2015.02月値を100％に対する変化率"]
[2,null,null,6.6529999999999996,6.53,null,6.5409375000000001,null,6.5810000000000004,null,null,6.6,{"$f":"AVERAGE(B3:K3)","v":6.5762343749999994},{"$f":"MAX(B3:K3)-MIN(B3:K3)","v":0.12299999999999933},6.4,6.8,{"$f":"M3/M3*100","v":100}]
[3,6.5522222222222233,6.5442727272727277,6.6390000000000002,6.52,6.5637931034482779,6.5834782608695663,6.65,6.5990000000000002,6.68,6.5096774193548379,6.6,6.5841443733167635,0.17032258064516181,6.4,6.8,{"$f":"M4/M$3*100","v":100.12028157552952}]
[4,6.5514814814814821,6.5308999999999999,6.585,6.52,6.5571875000000004,6.526307692307693,6.66,6.6079999999999997,6.67,6.5818181818181793,6.6,6.5790694855607352,0.15000000000000036,6.4,6.8,{"$f":"M5/M$3*100","v":100.04311145861094}]
[5,6.5670370370370383,6.5496666666666679,6.5629999999999997,6.51,6.562033898305085,6.5233437499999996,6.66,6.5730000000000004,6.68,6.5699999999999985,6.6,6.5758081352008784,0.16999999999999993,6.4,6.8,99.993518482237477]
[6,6.5985185185185182,6.5342727272727279,6.6050000000000004,6.61,6.5540000000000003,6.5092272727272729,6.66,6.5979999999999999,6.72,6.5619047619047599,6.6,6.5950923280423268,0.21077272727272689,6.4,6.8,100.28675913854312]
[7,6.6093749999999991,6.5186499999999992,6.5819999999999999,6.68,6.5604918029999997,6.5320487804878056,6.66,6.6139999999999999,6.74,6.5937499999999982,6.6,6.6090315583487804,0.22135000000000105,6.4,6.8,100.49872284773581]
[8,6.5978125000000007,6.5235909090909097,6.5910000000000002,6.61,6.5530769230769241,6.5524649122807004,6.67,6.6260000000000003,6.68,6.5863636363636342,6.6,6.5990308880812165,0.15640909090909005,6.4,6.8,100.34664994860705]
[9,6.6162499999999982,6.548210526315791,6.62,6.62,6.5529230769230757,6.5452348484848475,6.71,6.7130000000000001,6.67,6.595454545454543,6.6,6.6191072997178253,0.16776515151515259,6.4,6.8,100.65193729835435]
[10,6.5775000000000015,6.5601500000000019,6.59,6.62,6.5591525423728827,6.5392063492063501,6.65,6.6669999999999998,6.64,6.595238095238094,6.6,6.5998246986817337,0.12779365079364968,6.4,6.8,100.35872084747184]
[11,6.5853125000000015,6.5820000000000007,6.6050000000000004,6.62,6.5738333333333321,6.5371376811594208,6.66,6.633,6.59,6.6049999999999986,6.6,6.5991283514492762,0.1228623188405793,6.4,6.8,100.34813200296372]
[12,6.6109375000000004,6.5728571428571438,6.5839999999999996,6.64,6.5728070175438571,6.5436363636363639,6.66,6.601,6.59,6.6062499999999984,6.6,6.5981488024037374,0.11636363636363622,6.4,6.8,100.33323671502718]
[1,6.6143749999999999,6.5337999999999994,6.5949999999999998,6.63,6.5824137931034485,6.5606547619047628,6.66,6.5750000000000002,6.66,6.5999999999999988,6.6,6.6011243555008203,0.12620000000000076,6.4,6.8,100.3784837808616]
[2,6.6040625000000004,6.5501500000000004,6.5819999999999999,6.62,6.5828333333333351,6.5458333333333334,6.6920000000000002,6.6029999999999998,6.68,6.599999999999997,6.6,6.6059879166666677,0.14616666666666678,6.4,6.8,100.45244040844679]
[3,6.6056250000000016,6.6148181818181824,6.5819999999999999,6.65,6.5824242424242421,6.5597916666666682,6.67,6.5759999999999996,6.66,6.5312499999999991,6.6,6.6031909090909098,0.13875000000000082,6.4,6.8,100.40990835413936]
[4,6.5856250000000038,6.675250000000001,null,6.64,6.5956896551724125,6.4987681159420285,6.68,6.5730000000000004,6.63,null,6.6,6.6097915963893064,0.18123188405797119,6.4,6.8,100.51028019191162]
[5,6.6096875000000006,6.5549000000000008,null,6.6,6.6005084745762712,6.5226190476190489,6.7,6.57,6.63,null,6.6,6.5984643777744161,{"$f":"MAX(B18:K18)-MIN(B18:K18)","v":0.17738095238095131},6.4,6.8,{"$f":"M18/M$3*100","v":100.33803543953552}]
[6,null,null,null,null,null,null,null,null,null,null,6.6,null,{"$f":"MAX(B19:K19)-MIN(B19:K19)","v":0},6.4,6.8,{"$f":"M19/M$3*100","v":0}]
[7,null,null,null,null,null,null,null,null,null,null,6.6,null,{"$f":"MAX(B20:K20)-MIN(B20:K20)","v":0},6.4,6.8,{"$f":"M20/M$3*100","v":0}]

{"sheet":"ALB","index":14,"n_rows":20,"n_cols":22,"rows_kept":20,"cut":false,"hidden":false,"merged":[]}
[null,null,null,null,null,"ALB"]
["月","千葉大","がんｾﾝﾀｰ","船橋中央","県立佐原","千葉ﾘﾊﾋﾞﾘ","順大浦安","千葉青葉","東歯大市川","千葉MC","こども病院","BCG認証値","BCG平均","R","BCP認証値","BCP平均","R","BCG下限","BCG上限","BCP下限","BCP上限","2015.02月値を100％に対する変化率"]
[2,null,null,4.133,4.0999999999999996,null,4.0482894736842114,null,4.3330000000000002,null,null,4.2,{"$f":"AVERAGE(B3,H3,I3)","v":4.3330000000000002},{"$f":"MAX(B3,H3,I3,J3)-MIN(B3,H3,I3,J3)","v":0},4.0999999999999996,{"$f":"AVERAGE(C3,D3,E3,F3,G3,J3,K3)","v":4.0937631578947373},{"$f":"MAX(C3,D3,E3,F3,G3,K3)-MIN(C3,D3,E3,F3,G3,K3)","v":8.471052631578857E-2},4,4.4000000000000004,3.9,4.3,{"$f":"P3/P3*100","v":100}]
[3,4.2307407407407416,4.0472727272727269,4.141,4.12,4.1034482758620685,4.0403846153846157,4.17,4.3129999999999997,4.1900000000000004,4.1258064516129016,4.2,{"$f":"AVERAGE(B4,H4,I4)","v":4.2379135802469134},0.14299999999999979,4.0999999999999996,{"$f":"AVERAGE(C4,D4,E4,F4,G4,J4,K4)","v":4.1097017243046166},{"$f":"MAX(C4,D4,E4,F4,G4,K4)-MIN(C4,D4,E4,F4,G4,K4)","v":0.10061538461538433},4,4.4000000000000004,3.9,4.3,{"$f":"P4/P$3*100","v":100.38933777541924}]
[4,4.224814814814815,4.0640999999999998,4.1399999999999997,4.1399999999999997,4.1218750000000002,4.0233333333333325,4.21,4.3230000000000004,4.2,4.127272727272727,4.2,4.2526049382716051,0.12300000000000022,4.0999999999999996,4.1166544372294371,{"$f":"MAX(C5,D5,E5,F5,G5,K5)-MIN(C5,D5,E5,F5,G5,K5)","v":0.11666666666666714},4,4.4000000000000004,3.9,4.3,{"$f":"P5/P$3*100","v":100.55917449182556}]
[5,4.2196296296296305,4.0609444444444449,4.1420000000000003,4.1399999999999997,4.1259322033898291,4.0147473118279571,4.22,4.3140000000000001,4.2,4.125,4.2,4.2512098765432098,0.11399999999999988,4.0999999999999996,4.1155177085231758,{"$f":"MAX(D6,E6,G6)-MIN(D6,E6,G6)","v":0.12725268817204327},4,4.4000000000000004,3.9,4.3,100.53140716229481]
[6,4.2059259259259267,4.042136363636363,4.12,4.1500000000000004,4.1258461538461528,4.0129242424242424,4.22,4.2969999999999997,4.18,4.1190476190476186,4.2,4.2409753086419757,0.11699999999999999,4.0999999999999996,4.1071363398506255,{"$f":"MAX(D7,E7,G7)-MIN(D7,E7,G7)","v":0.13707575757575796},4,4.4000000000000004,3.9,4.3,100.32667209704348]
[7,4.2031249999999991,4.0330000000000013,4.0199999999999996,4.16,4.0947540980000001,4.121907894736843,4.2300000000000004,4.298,4.1900000000000004,4.1117647058823534,4.2,4.2437083333333332,0.10799999999999965,4.0999999999999996,4.1044895283741711,{"$f":"MAX(C8,D8,E8,F8,G8,K8)-MIN(C8,D8,E8,F8,G8,K8)","v":0.14000000000000057},4,4.4000000000000004,3.9,4.3,100.26201736802356]
[8,4.2153124999999996,4.058863636363637,4.0090000000000003,4.16,4.1056923076923093,4.1680263157894748,4.25,4.3010000000000002,4.21,4.1090909090909085,4.2,4.2554375000000002,9.1000000000000192E-2,4.0999999999999996,4.1172390241337613,0.15902631578947446,4,4.4000000000000004,3.9,4.3,100.57345443137694]
[9,4.2240625000000005,4.0784736842105263,4.03,4.1500000000000004,4.1025,4.1321031746031744,4.25,4.306,4.12,4.0954545454545448,4.2,4.2600208333333329,0.18599999999999994,4.0999999999999996,4.1012187720383206,0.12000000000000011,4,4.4000000000000004,3.9,4.3,100.18212128684596]
[10,4.2240624999999996,4.0965999999999996,4.1130000000000004,4.16,4.09,4.1675793650793649,4.25,3.9950000000000001,4.03,4.0952380952380896,4.2,{"$f":"AVERAGE(B11,H11)","v":4.2370312499999994},{"$f":"MAX(B11,H11)-MIN(B11,H11)","v":2.5937500000000391E-2},4.0999999999999996,{"$f":"AVERAGE(C11,D11,E11,F11,G11,I11,J11,K11)","v":4.0934271825396822},{"$f":"MAX(C11,D11,E11,F11,G11,I11,J11,K11)-MIN(C11,D11,E11,F11,G11,I11,J11,K11)","v":0.17257936507936478},4,4.4000000000000004,3.9,4.3,99.991792994804612]
[11,4.2324999999999999,4.1290000000000013,4.1429999999999998,4.16,4.1065000000000005,4.1572463768115941,4.25,3.9910000000000001,4.01,4.0999999999999996,4.2,4.24125,{"$f":"MAX(B12,H12)-MIN(B12,H12)","v":1.7500000000000071E-2},4.0999999999999996,4.0995932971014497,{"$f":"MAX(C12,D12,E12,F12,G12,I12,J12,K12)-MIN(C12,D12,E12,F12,G12,I12,J12,K12)","v":0.16900000000000004},4,4.4000000000000004,3.9,4.3,100.14241515646719]
[12,4.2346875000000006,4.1118571428571427,4.1580000000000004,4.1500000000000004,4.1285714285714272,4.1254761904761903,4.25,3.968,4.0199999999999996,4.1062500000000011,4.2,4.2423437499999999,1.5312499999999396E-2,4.0999999999999996,4.0960193452380951,0.19000000000000039,4,4.4000000000000004,3.9,4.3,100.05511279613251]
[1,4.2362500000000001,4.0643000000000002,4.1740000000000004,4.1500000000000004,4.1420689655172414,4.1535555555555552,4.25,3.9729999999999999,4.0199999999999996,4.0764705882352938,4.2,4.243125,1.3749999999999929E-2,4.0999999999999996,4.0941743886635109,0.20100000000000051,4,4.4000000000000004,3.9,4.3,100.01004529946928]
[2,4.2346874999999997,4.0892499999999998,4.1929999999999996,4.13,4.1096666666666675,4.1616666666666662,4.28,3.952,4.05,4.0578947368421048,4.2,4.2573437500000004,4.5312500000000533E-2,4.0999999999999996,4.0929347587719302,0.24099999999999966,4,4.4000000000000004,3.9,4.3,99.979764361276992]
[3,4.1981249999999992,4.1145454545454534,4.2050000000000001,4.13,4.1135937499999997,4.1119252873563221,4.2300000000000004,3.9750000000000001,4.04,4.083333333333333,4.2,4.2140624999999998,3.1875000000001208E-2,4.0999999999999996,4.0966747281543885,0.22999999999999998,4,4.4000000000000004,3.9,4.3,100.07112209835678]
[4,4.1996874999999996,4.1389499999999995,null,4.1399999999999997,4.1038596491228052,4.0902173913043489,4.1900000000000004,4.0540000000000003,4.0199999999999996,null,4.2,4.1948437500000004,9.6874999999991829E-3,4.0999999999999996,4.0911711734045246,0.12000000000000011,4,4.4000000000000004,3.9,4.3,99.93668455183554]
[5,4.2028124999999994,4.1050000000000004,null,4.1100000000000003,4.1136842105263147,4.1509523809523809,4.21,4.03,4.01,null,4.2,4.2064062499999997,7.1875000000005684E-3,4.0999999999999996,4.0866060985797823,0.14095238095238116,4,4.4000000000000004,3.9,4.3,{"$f":"P18/P$3*100","v":99.825171632092278}]
[6,null,null,null,null,null,null,null,null,null,null,4.2,null,0,4.0999999999999996,null,0,4,4.4000000000000004,3.9,4.3,{"$f":"P19/P$3*100","v":0}]
[7,null,null,null,null,null,null,null,null,null,null,4.2,null,0,4.0999999999999996,null,0,4,4.4000000000000004,3.9,4.3,{"$f":"P20/P$3*100","v":0}]

{"sheet":"BUN","index":15,"n_rows":20,"n_cols":17,"rows_kept":20,"cut":false,"hidden":false,"merged":[]}
[null,null,null,null,null,"BUN"]
["月","千葉大","がんｾﾝﾀｰ","船橋中央","県立佐原","千葉ﾘﾊﾋﾞﾘ","順大浦安","千葉青葉","東歯大市川","千葉MC","こども病院","認証値","10病院平均","R","下限","上限","2015.02月値を100％に対する変化率"]
[2,null,null,32.218000000000004,32,null,33.159999999999997,null,33.581000000000003,null,null,33,{"$f":"AVERAGE(B3:K3)","v":32.739750000000001},{"$f":"MAX(B3:K3)-MIN(B3:K3)","v":1.5810000000000031},31,35,{"$f":"M3/M3*100","v":100}]
[3,32.851851851851855,32.220681818181824,32.192999999999998,32.15,33.168965517241375,33.141666666666666,33.6,33.542000000000002,32.69,32.312903225806451,33,32.787106907974817,1.4500000000000028,31,35,{"$f":"M4/M$3*100","v":100.14464651677186}]
[4,32.80740740740741,32.149549999999998,32.392000000000003,32.31,33.065624999999997,33.292307692307695,33.799999999999997,33.725000000000001,33.229999999999997,32.463636363636368,33,32.923552646335153,1.6504499999999993,31,35,{"$f":"M5/M$3*100","v":100.56140516141741}]
[5,32.959259259259255,32.207277777777783,32.283999999999999,32.18,33.252542372881358,33.378282828282821,33.799999999999997,33.436,33.520000000000003,32.154999999999994,33,32.917236223820119,1.6450000000000031,31,35,100.54211233689969]
[6,32.988888888888901,32.03981818181817,32.295000000000002,32.36,33.362121212121217,33.042424242424246,34,33.401000000000003,33.43,32.185714285714297,33,32.910496681096689,1.9601818181818302,31,35,100.52152713779637]
[7,32.875,32.604200000000006,32.299999999999997,32.43,33.239344260000003,33.21875,33.4,33.243000000000002,32.909999999999997,32.45882352941176,33,32.867911778941178,1.1000000000000014,31,35,100.39145619298002]
[8,32.909374999999997,32.551227272727282,32.261000000000003,32.6,33.203125,33.07236842105263,33.9,32.875,32.590000000000003,32.263636363636358,33,32.822573205741627,1.6389999999999958,31,35,100.2529744599199]
[9,33.040625000000006,32.656105263157905,32.161999999999999,32.549999999999997,33.033846153846142,33.020634920634926,34,32.957000000000001,32.56,32.086363636363636,33,32.806657497400259,1.913636363636364,31,35,100.20436166250586]
[10,32.950000000000003,32.667299999999997,32.161999999999999,32.549999999999997,33.126666666666672,33.006746031746033,34.1,33.274999999999999,32.729999999999997,31.961904761904758,33,32.852961746031745,2.1380952380952429,31,35,100.34579294598078]
[11,32.981249999999996,32.857799999999997,32.087000000000003,32.369999999999997,33.336666666666666,33.147727272727273,33.6,33.313000000000002,32.869999999999997,31.93,33,32.849344393939397,1.6700000000000017,31,35,100.33474413805664]
[12,33.040624999999999,32.784238095238095,31.978999999999999,32.42,33.345614035087713,33.01401515151516,33.299999999999997,33.359000000000002,32.92,31.85,33,32.801249228184098,1.5090000000000003,31,35,100.18784269331347]
[1,32.921875,32.587800000000001,31.971,32.369999999999997,33.293103448275865,33.06111111111111,33.200000000000003,33.264000000000003,32.97,32.347058823529409,33,32.798594838291635,1.3221034482758647,31,35,100.1797351485324]
[2,33.034375000000004,32.712550000000007,31.989000000000001,32.51,33.231666666666655,33.083333333333336,33.299999999999997,33.404000000000003,32.64,32.278947368421051,33,32.818387236842099,1.4150000000000027,31,35,100.24018887389823]
[3,33.084375000000001,32.671863636363646,32.106999999999999,32.56,33.290769230769222,33.252083333333339,33.1,33.32,32.520000000000003,32.294444444444444,33,32.820053564491062,1.213000000000001,31,35,100.24527849018719]
[4,32.978124999999991,32.824850000000012,null,32.9,33.251785714285724,33.053623188405801,33.200000000000003,33.21,32.74,null,33,33.019797987836441,0.51178571428572184,31,35,100.85537607292798]
[5,32.978124999999991,32.785749999999993,null,32.81,33.233333333333334,33.247619047619054,33.700000000000003,33.198,32.89,null,33,33.105353422619054,{"$f":"MAX(B18:K18)-MIN(B18:K18)","v":0.91425000000000978},31,35,{"$f":"M18/M$3*100","v":101.11669582882902}]
[6,null,null,null,null,null,null,null,null,null,null,33,null,{"$f":"MAX(B19:K19)-MIN(B19:K19)","v":0},31,35,{"$f":"M19/M$3*100","v":0}]
[7,null,null,null,null,null,null,null,null,null,null,33,null,{"$f":"MAX(B20:K20)-MIN(B20:K20)","v":0},31,35,{"$f":"M20/M$3*100","v":0}]

{"sheet":"CRE","index":16,"n_rows":20,"n_cols":17,"rows_kept":20,"cut":false,"hidden":false,"merged":[]}
[null,null,null,null,null,"CRE"]
["月","千葉大","がんｾﾝﾀｰ","船橋中央","県立佐原","千葉ﾘﾊﾋﾞﾘ","順大浦安","千葉青葉","東歯大市川","千葉MC","こども病院","認証値","10病院平均","R","下限","上限","2015.02月値を100％に対する変化率"]
[2,null,null,2.8849999999999998,2.95,null,2.9448717948717946,null,2.9350000000000001,null,null,2.94,{"$f":"AVERAGE(B3:K3)","v":2.9287179487179489},{"$f":"MAX(B3:K3)-MIN(B3:K3)","v":6.5000000000000391E-2},2.74,3.14,{"$f":"M3/M3*100","v":100}]
[3,2.9492592592592586,2.8826181818181813,2.8730000000000002,2.94,2.8995862068965517,2.9491999999999994,2.875,2.9220000000000002,2.98,2.887666666666667,2.94,2.9158330314640657,0.10699999999999976,2.74,3.14,{"$f":"M4/M$3*100","v":99.560049227016762}]
[4,2.9292592592592599,2.8806850000000002,2.8936999999999999,2.94,2.8897031249999992,2.9398999999999997,2.887,2.9119999999999999,2.96,2.9004545454545454,2.94,2.9132701929713805,7.9314999999999802E-2,2.74,3.14,{"$f":"M5/M$3*100","v":99.472542046825268}]
[5,2.9377777777777787,2.8710499999999999,2.9013,2.93,2.8964067796610169,2.9441927083333335,2.9,2.9159999999999999,3.02,2.9004999999999996,2.94,2.9217227265772125,0.14895000000000014,2.74,3.14,99.761150706103379]
[6,2.9414814814814827,2.8741318181818185,2.8965999999999998,2.95,2.893469696969698,2.9382978723404247,2.9780000000000002,2.9129999999999998,3,2.8971428571428568,2.94,2.928212372611628,0.12586818181818149,2.74,3.14,99.982737289313164]
[7,2.9503125000000003,2.8669149999999997,2.8940000000000001,2.95,2.8920819670000002,2.9097058823529411,2.9980000000000002,2.907,2.97,2.908235294117647,2.94,2.924625064347059,0.13108500000000056,2.74,3.14,99.860249964573015]
[8,2.9500000000000006,2.8659136363636359,2.8980000000000001,2.96,2.8890312499999991,2.8824999999999998,2.9649999999999999,2.8919999999999999,2.98,2.9331818181818181,2.94,2.9215626704545454,0.11408636363636404,2.74,3.14,99.755685648509257]
[9,2.95,2.8704789473684209,2.891,2.96,2.8823846153846167,2.8841060606060602,2.948,2.9140000000000001,2.98,2.9309523809523812,2.94,2.9210922004311479,0.10952105263157907,2.74,3.14,99.739621622145648]
[10,2.9490625000000001,2.8973800000000005,2.8954,2.95,2.8770166666666666,2.8914999999999993,2.9620000000000002,2.9390000000000001,2.97,2.9319047619047618,2.94,2.9263263928571428,9.298333333333364E-2,2.74,3.14,99.918341202441397]
[11,2.9399999999999995,2.9063300000000001,2.8978000000000002,2.96,2.892850000000001,2.8934920634920638,2.9550000000000001,2.923,2.89,2.9379999999999997,2.94,2.9196472063492065,6.999999999999984E-2,2.74,3.14,99.690282829293508]
[12,2.9396875000000007,2.9055809523809524,2.8853,2.96,2.895017543859649,2.8980652173913044,2.96,2.907,2.95,2.9450000000000003,2.94,2.9245651213631909,7.4699999999999989E-2,2.74,3.14,99.858203233378077]
[1,2.9353125000000015,2.8847500000000004,2.8828999999999998,2.96,2.9082413793103443,2.9074666666666671,2.9670000000000001,2.9009999999999998,2.96,2.9505882352941177,2.94,2.9257258781271132,8.4100000000000286E-2,2.74,3.14,99.897836847274917]
[2,2.9368750000000006,2.8974000000000002,2.8874,2.98,2.9056333333333337,2.902118055555555,2.9630000000000001,2.9089999999999998,2.99,2.9473684210526319,2.94,2.9318794809941524,0.10260000000000025,2.74,3.14,100.10794935980734]
[3,2.9296875000000009,2.9038181818181821,2.903,2.97,2.9120781250000003,2.8903273809523808,2.9510000000000001,2.89,2.98,2.9516666666666667,2.94,2.9281577854437235,8.9999999999999858E-2,2.74,3.14,99.980873430489595]
[4,2.9384374999999996,2.9008499999999997,null,2.98,2.9191228070175437,2.9015579710144919,2.95,2.8980000000000001,2.95,null,2.94,2.9297460347540043,8.1999999999999851E-2,2.74,3.14,100.03510362056221]
[5,2.9634374999999999,2.8848500000000001,null,2.96,2.9082711864406789,2.9038095238095241,2.9750000000000001,2.8929999999999998,2.96,null,2.94,2.9310460262812756,{"$f":"MAX(B18:K18)-MIN(B18:K18)","v":9.0149999999999952E-2},2.74,3.14,{"$f":"M18/M$3*100","v":100.0794913543773}]
[6,null,null,null,null,null,null,null,null,null,null,2.94,null,{"$f":"MAX(B19:K19)-MIN(B19:K19)","v":0},2.74,3.14,{"$f":"M19/M$3*100","v":0}]
[7,null,null,null,null,null,null,null,null,null,null,2.94,null,{"$f":"MAX(B20:K20)-MIN(B20:K20)","v":0},2.74,3.14,{"$f":"M20/M$3*100","v":0}]

{"sheet":"UA","index":17,"n_rows":20,"n_cols":17,"rows_kept":20,"cut":false,"hidden":false,"merged":[]}
[null,null,null,null,null,"UA"]
["月","千葉大","がんｾﾝﾀｰ","船橋中央","県立佐原","千葉ﾘﾊﾋﾞﾘ","順大浦安","千葉青葉","東歯大市川","千葉MC","こども病院","認証値","10病院平均","R","下限","上限","2015.02月値を100％に対する変化率"]
[2,null,null,6.6470000000000002,6.51,null,6.6128205128205098,null,6.5309999999999997,null,null,6.6,{"$f":"AVERAGE(B3:K3)","v":6.5752051282051269},{"$f":"MAX(B3:K3)-MIN(B3:K3)","v":0.13700000000000045},6.3,6.9,{"$f":"M3/M3*100","v":100}]
[3,6.6259259259259231,6.6195909090909106,6.63,6.51,6.6072413793103442,6.5346153846153836,6.63,6.4939999999999998,6.54,6.6374999999999966,6.6,6.5828873598942561,0.14349999999999685,6.3,6.9,{"$f":"M4/M$3*100","v":100.1168363806047}]
[4,6.596296296296293,6.6278500000000005,6.67,6.5,6.6242187499999998,6.58205128205128,6.67,6.5259999999999998,6.53,6.7090909090909099,6.6,6.6035507237438482,0.20909090909090988,6.3,6.9,{"$f":"M5/M$3*100","v":100.43109826972743}]
[5,6.5888888888888868,6.6489444444444432,6.6790000000000003,6.49,6.6225423728813526,6.6055555555555525,6.67,6.4989999999999997,6.54,6.705000000000001,6.6,6.604893126177025,0.21500000000000075,6.3,6.9,100.45151439982531]
[6,6.5481481481481465,6.6840454545454548,6.6660000000000004,6.51,6.6066666666666647,6.6515151515151469,6.58,6.4189999999999996,6.54,6.6999999999999993,6.6,6.5905375420875405,0.28099999999999969,6.3,6.9,100.2331853316126]
[7,6.5812499999999972,6.6633499999999994,6.66,6.53,6.6106557380000002,6.6666666666666652,6.58,6.3780000000000001,6.53,6.7058823529411775,6.6,6.5905804757607838,0.3278823529411774,6.3,6.9,100.23383829486478]
[8,6.596874999999998,6.6497727272727269,6.6550000000000002,6.52,6.6015384615384605,6.6412280701754387,6.59,6.3810000000000002,6.58,6.713636363636363,6.6,6.5929050622622984,0.33263636363636273,6.3,6.9,100.26919211966856]
[9,6.6281249999999963,6.6485789473684225,6.6580000000000004,6.53,6.5676190476190497,6.5712121212121195,6.58,6.3890000000000002,6.45,6.709090909090909,6.6,6.5731626025290497,0.32009090909090876,6.3,6.9,99.968935939849004]
[10,6.5812499999999972,6.6348500000000001,6.6449999999999996,6.48,6.5573333333333341,6.5674603174603154,6.54,6.4950000000000001,6.5,6.7000000000000011,6.6,6.5700893650793644,0.22000000000000064,6.3,6.9,99.922196144059171]
[11,6.5906249999999966,6.6234500000000001,6.6449999999999996,6.47,6.5765000000000002,6.5739130434782593,6.55,6.46,6.45,6.7150000000000007,6.6,6.5654488043478256,0.26500000000000057,6.3,6.9,99.851619475482963]
[12,6.6281249999999972,6.6119523809523812,6.6219999999999999,6.5,6.5873684210526333,6.592424242424241,6.54,6.5179999999999998,6.5,6.7250000000000014,6.6,6.5824870044429247,0.22500000000000142,6.3,6.9,100.11074751427238]
[1,6.6281249999999963,6.600200000000001,6.6109999999999998,6.48,6.6020689655172413,6.583333333333333,6.53,6.4219999999999997,6.51,6.6533333333333324,6.6,6.5620060632183908,0.23133333333333272,6.3,6.9,99.79926002718733]
[2,6.6096774193548349,6.6252499999999994,6.6289999999999996,6.49,6.5796666666666672,6.5821428571428546,6.55,6.444,6.6,6.6684210526315795,6.6,6.5778157995795938,0.22442105263157952,6.3,6.9,100.03970478979079]
[3,6.5781249999999973,6.6241818181818193,6.6269999999999998,6.5,6.5926865671641783,6.5666666666666647,6.56,6.4669999999999996,6.54,6.6722222222222225,6.6,6.5727882274234872,0.20522222222222286,6.3,6.9,99.963242199528153]
[4,6.5281249999999984,6.6366500000000004,null,6.5,6.6272413793103464,6.5681159420289843,6.52,6.444,6.48,null,6.6,6.5380165401674173,0.19265000000000043,6.3,6.9,99.434411743624779]
[5,6.5374999999999988,6.6277500000000007,null,6.49,6.6237288135593229,6.6142857142857121,6.5510000000000002,6.4619999999999997,6.53,null,6.6,6.55453306598063,{"$f":"MAX(B18:K18)-MIN(B18:K18)","v":0.16575000000000095},6.3,6.9,{"$f":"M18/M$3*100","v":99.685605820329144}]
[6,null,null,null,null,null,null,null,null,null,null,6.6,null,{"$f":"MAX(B19:K19)-MIN(B19:K19)","v":0},6.3,6.9,{"$f":"M19/M$3*100","v":0}]
[7,null,null,null,null,null,null,null,null,null,null,6.6,null,{"$f":"MAX(B20:K20)-MIN(B20:K20)","v":0},6.3,6.9,{"$f":"M20/M$3*100","v":0}]

{"sheet":"GLU","index":18,"n_rows":20,"n_cols":17,"rows_kept":20,"cut":false,"hidden":false,"merged":[]}
[null,null,null,null,null,"GLU"]
["月","千葉大","がんｾﾝﾀｰ","船橋中央","県立佐原","千葉ﾘﾊﾋﾞﾘ","順大浦安","千葉青葉","東歯大市川","千葉MC","こども病院","認証値","10病院平均","R","下限","上限","2015.02月値を100％に対する変化率"]
[2,null,null,183.05,183.43,null,183.75,null,184.69399999999999,null,null,183,{"$f":"AVERAGE(B3:K3)","v":183.73099999999999},{"$f":"MAX(B3:K3)-MIN(B3:K3)","v":1.643999999999977},178,188,{"$f":"M3/M3*100","v":100}]
[3,184,180.77954545454546,183.07,182.84,181.02857142857144,182.71153846153845,182.8,184.19300000000001,182.92,182,183,182.63426553446556,3.413454545454556,178,188,{"$f":"M4/M$3*100","v":99.403075983076107}]
[4,183.96296296296296,181.09550000000002,183.2,182.26,181.35781249999997,184.13461538461539,184.3,183.13800000000001,182.36,183.47368421052633,183,182.92825750581045,3.2044999999999959,178,188,{"$f":"M5/M$3*100","v":99.563088159216704}]
[5,183.5185185185185,180.91388888888889,183.47,182.76,181.63898305084746,183.14583333333334,185.5,182.624,182.78,183.75,183,183.01012237915882,4.5861111111111086,178,188,99.607645078489099]
[6,183.85185185185185,181.73681818181814,183.27,181.8,181.74375000000001,182.94090909090906,184,183.03399999999999,182.7,181.95,183,182.70273291245789,2.263181818181863,178,188,99.440340994420055]
[7,184.1875,182.08750000000001,183.57,182.43,181.98032789999999,182.99102564102563,183.6,183.69800000000001,181.62,181.35714285714286,183,182.75214963981688,2.8303571428571388,178,188,99.467237232593789]
[8,183.625,182.05863636363634,183.77,182.96,181.91846153846163,182.19736842105266,183.2,183.893,181.2,187,183,183.18224663231507,5.8000000000000114,178,188,99.701327828355076]
[9,183.40625,182.68,183.6,183.02,181.27213114754102,182.97727272727272,182.9,182.56,179.96,184.90909090909091,183,182.72847447839047,4.9490909090908985,178,188,99.454351458594616]
[10,183.5625,182.93699999999995,184.34,182.98,180.91,183.50396825396825,183.4,184.339,179.82,184.2,183,182.99924682539682,4.5200000000000102,178,188,99.601725797713414]
[11,183.8125,183.74849999999998,183.97,182.81,181.33500000000001,184.04710144927535,183.1,182.96100000000001,182.37,184.42105263157896,183,183.2575154080854,3.0860526315789514,178,188,99.742294663440248]
[12,184.3125,182.77161904761905,184.43,183.75,181.20701754385965,182.56666666666666,182.8,182.846,181.67,183.35714285714286,183,182.97109461152883,3.2229824561403575,178,188,99.586403280627025]
[1,184.875,181.76414999999997,184,184.36,181.57586206896551,183.79444444444445,182.8,182.84899999999999,183.17,181.44444444444446,183,183.06329009578545,3.4305555555555429,178,188,99.63658288246701]
[2,184.625,183.78,183.51,183.14,181.3796610169492,183.73214285714286,183.3,182.67400000000001,183.15,185.10526315789474,183,183.43960670319868,3.72560214094554,178,188,99.841402214758901]
[3,183.8125,183.41286363636365,183.73,182.6,181.11093750000001,182.10714285714286,182.9,181.922,180.37,186,183,182.79654439935067,5.6299999999999955,178,188,99.491400144423466]
[4,183.1875,183.7775,null,183.37,181.67627118644066,181.26449275362319,185.1,183.071,180.06,null,183,182.68834549250795,5.039999999999992,178,188,99.432510296307072]
[5,183.21875,182.89250000000001,null,183.05,181.75084745762709,183.3095238095238,187.3,183.61600000000001,181.14,null,183,183.28470265839388,{"$f":"MAX(B18:K18)-MIN(B18:K18)","v":6.160000000000025},178,188,99.7570919759833]
[6,null,null,null,null,null,null,null,null,null,null,183,null,{"$f":"MAX(B19:K19)-MIN(B19:K19)","v":0},178,188,0]
[7,null,null,null,null,null,null,null,null,null,null,183,null,{"$f":"MAX(B20:K20)-MIN(B20:K20)","v":0},178,188,0]

{"sheet":"Na","index":19,"n_rows":20,"n_cols":17,"rows_kept":20,"cut":false,"hidden":false,"merged":[]}
[null,null,null,null,null,"Na"]
["月","千葉大","がんｾﾝﾀｰ","船橋中央","県立佐原","千葉ﾘﾊﾋﾞﾘ","順大浦安","千葉青葉","東歯大市川","千葉MC","こども病院","認証値","10病院平均","R","下限","上限","2015.02月値を100％に対する変化率"]
[2,null,null,145.98500000000001,144.97,null,144.69166666666669,null,145.39699999999999,null,null,145,{"$f":"AVERAGE(B3:K3)","v":145.26091666666667},{"$f":"MAX(B3:K3)-MIN(B3:K3)","v":1.2933333333333223},143,147,{"$f":"M3/M3*100","v":100}]
[3,144.60740740740741,144.47772727272726,145.19999999999999,144.83000000000001,144.33448275862071,144.09090909090907,144.4,144.98699999999999,144.72999999999999,143.69999999999999,145,144.53575265296644,1.5,143,147,{"$f":"M4/M$3*100","v":99.500785186861876}]
[4,144.59629629629629,144.62200000000001,145.40199999999999,144.54,144.54218750000001,143.8153846153846,144.19999999999999,144.756,144.86000000000001,144.88235294117646,145,144.62162213528578,1.586615384615385,143,147,{"$f":"M5/M$3*100","v":99.559899148338786}]
[5,144.72592592592594,144.52722222222224,145.73400000000001,144.75,144.535593220339,144.47812500000001,145,144.946,145.30000000000001,145,145,144.89968663684871,1.2558750000000032,143,147,99.751323316617317]
[6,144.57777777777775,144.73454545454544,145.625,144.44,144.40153846153854,144.55454545454546,145.1,145.16900000000001,145.37,144.66666666666666,145,144.86390738150737,1.2234615384614642,143,147,99.726692289798564]
[7,144.74062499999997,144.28400000000002,145.43299999999999,144.25,144.6147541,144.37368421052633,145.4,145.024,145.33000000000001,144.94117647058823,145,144.83912397811145,1.1829999999999927,143,147,99.70963098799443]
[8,144.63125000000002,144.84681818181818,145.63,144.41999999999999,144.23225806451615,144.49999999999997,145,145.02600000000001,145.16,145.30000000000001,145,144.87463262463342,1.3977419354838503,143,147,99.734075723258954]
[9,144.59999999999997,145.16736842105263,145.88,144.33000000000001,143.96875,144.19545454545457,145.19999999999999,145.256,145.06,144.59090909090909,145,144.8248482057416,1.9112499999999955,143,147,99.699803311908227]
[10,144.55937500000002,145.001,146.30199999999999,144.27000000000001,144.53606557377049,143.99523809523805,145.1,145.214,144.81,144.55555555555554,145,144.83432342245641,2.3067619047619417,143,147,99.706326206663576]
[11,144.53437499999998,144.94,146.08000000000001,144.33000000000001,144.79523809523806,144.2095238095238,145,145.38800000000001,145.05000000000001,144.05000000000001,145,144.83771369047619,2.0300000000000011,143,147,99.708660122831517]
[12,144.54687499999997,144.62171428571432,146.13499999999999,144.55000000000001,144.76666666666668,144.05263157894737,145.1,145.374,145.19,144.375,145,144.87118875313283,2.082368421052621,143,147,99.73170490557473]
[1,144.46562500000002,144.82910000000001,145.87100000000001,144.71,144.71186440677965,144.36666666666667,144.4,145.827,145.26,144.41176470588235,145,144.88530207793289,1.5043333333333351,143,147,99.741420750086746]
[2,144.36875000000006,144.53625,144.95400000000001,144.28,144.65593220338985,144.41785714285714,144.9,145.69800000000001,144.9,144.57894736842104,145,144.7289736714668,1.4180000000000064,143,147,99.633801708397215]
[3,144.29999999999998,144.68863636363633,145.071,144.16999999999999,144.7553846153846,144.15925925925927,144.9,145.69,145.37,144.77777777777777,145,144.78820580160578,1.5307407407407254,143,147,99.674578079287741]
[4,144.25937499999995,144.67250000000001,null,144.91999999999999,144.96250000000001,143.93181818181819,145.1,145.518,145.31,null,145,144.83427414772729,1.5861818181818137,143,147,99.706292285131028]
[5,144.22187499999995,144.94329999999999,null,144.55000000000001,144.56833333333341,143.46666666666664,145.19999999999999,145.55500000000001,145.54,null,145,144.75564687500002,2.0883333333333667,143,147,99.652163979643532]
[6,null,null,null,null,null,null,null,null,null,null,145,null,0,143,147,0]
[7,null,null,null,null,null,null,null,null,null,null,145,null,0,143,147,0]

{"sheet":"K","index":20,"n_rows":20,"n_cols":17,"rows_kept":20,"cut":false,"hidden":false,"merged":[]}
[null,null,null,null,null,"K"]
["月","千葉大","がんｾﾝﾀｰ","船橋中央","県立佐原","千葉ﾘﾊﾋﾞﾘ","順大浦安","千葉青葉","東歯大市川","千葉MC","こども病院","認証値","10病院平均","R","下限","上限","2015.02月値を100％に対する変化率"]
[2,null,null,5.468,5.37,null,5.3694594594594607,null,5.4370000000000003,null,null,5.4,{"$f":"AVERAGE(B3:K3)","v":5.4111148648648655},{"$f":"MAX(B3:K3)-MIN(B3:K3)","v":9.854054054053929E-2},5.2,5.6,{"$f":"M3/M3*100","v":100}]
[3,5.3792592592592587,5.3983636363636371,5.4340000000000002,5.37,5.3841379310344832,5.3529166666666663,5.37,5.4169999999999998,5.37,5.326666666666668,5.4,5.3802344159990714,0.10733333333333217,5.2,5.6,{"$f":"M4/M$3*100","v":99.429314482560599}]
[4,5.3837037037037021,5.3988000000000014,5.4649999999999999,5.36,5.39,5.3434615384615398,5.36,5.41,5.37,5.3523809523809529,5.4,5.3833346194546188,0.12153846153846004,5.2,5.6,{"$f":"M5/M$3*100","v":99.486607730495109}]
[5,5.3885185185185192,5.395444444444446,5.4610000000000003,5.37,5.3945762711864376,5.37,5.39,5.4189999999999996,5.4,5.36,5.4,5.3948539234149404,0.10099999999999998,5.2,5.6,99.6994899968672]
[6,5.3811111111111112,5.4007272727272735,5.47,5.38,5.3907812499999999,5.3707272727272759,5.4,5.4320000000000004,5.41,5.3523809523809529,5.4,5.3987727858946615,0.11761904761904685,5.2,5.6,99.771912456519033]
[7,5.3843750000000004,5.4022000000000006,5.4530000000000003,5.38,5.3942622949999999,5.369210526315789,5.4,5.4240000000000004,5.41,5.382352941176471,5.4,5.3999400762492265,8.3789473684211302E-2,5.2,5.6,99.793484542562595]
[8,5.3909374999999988,5.4080000000000013,5.42,5.37,5.3879687499999998,5.3768421052631572,5.41,5.4240000000000004,5.41,5.3650000000000002,5.4,5.3962748355263166,5.9000000000000163E-2,5.2,5.6,99.725749134713311]
[9,5.3806249999999993,5.4202105263157891,5.4249999999999998,5.37,5.369538461538462,5.3659090909090912,5.4,5.4329999999999998,5.4,5.3363636363636351,5.4,5.3900646715126976,9.6636363636364742E-2,5.2,5.6,99.610982322906324]
[10,5.3753124999999997,5.4155000000000006,5.4580000000000002,5.39,5.3947540983606519,5.3595238095238091,5.4,5.4249999999999998,5.39,5.352380952380952,5.4,5.3960471360265405,0.10561904761904817,5.2,5.6,99.72154113866327]
[11,5.3843749999999995,5.4034500000000003,5.4850000000000003,5.39,5.4126984126984148,5.3652173913043475,5.39,5.4320000000000004,5.4,5.34,5.4,5.4002740804002771,0.14500000000000046,5.2,5.6,99.799657099593674]
[12,5.384999999999998,5.3952857142857145,5.4850000000000003,5.39,5.4089473684210505,5.3545454545454554,5.4,5.4279999999999999,5.41,5.3562500000000011,5.4,5.4013028537252223,0.13045454545454493,5.2,5.6,99.818669324442652]
[1,5.3778125000000001,5.3988999999999994,5.4660000000000002,5.4,5.404915254237288,5.3793333333333342,5.37,5.452,5.41,5.3411764705882341,5.4,5.4000137558158858,0.12482352941176611,5.2,5.6,99.794846176320135]
[2,5.3743750000000015,5.3904000000000005,5.44,5.38,5.3971666666666644,5.3821428571428571,5.39,5.4409999999999998,5.4,5.3473684210526313,5.4,5.3942452944862156,9.363157894736851E-2,5.2,5.6,99.688242242126734]
[3,5.3725000000000014,5.3913181818181819,5.4119999999999999,5.37,5.3978461538461522,5.3696428571428578,5.39,5.4470000000000001,5.4,5.3388888888888886,5.4,5.3889196081696085,0.10811111111111149,5.2,5.6,99.589821002703644]
[4,5.3759374999999991,5.3936500000000009,null,5.39,5.4017241379310326,5.3713043478260865,5.4,5.44,5.39,null,5.4,5.3953269982196401,6.8695652173913935E-2,5.2,5.6,99.708232646330643]
[5,5.3800000000000008,5.3931000000000004,null,5.36,5.3940677966101696,5.3614285714285712,5.42,5.4409999999999998,5.4,null,5.4,5.3936995460048429,8.0999999999999517E-2,5.2,5.6,99.678156548235506]
[6,null,null,null,null,null,null,null,null,null,null,5.4,null,0,5.2,5.6,0]
[7,null,null,null,null,null,null,null,null,null,null,5.4,null,0,5.2,5.6,0]

{"sheet":"CL","index":21,"n_rows":20,"n_cols":22,"rows_kept":20,"cut":false,"hidden":false,"merged":[]}
[null,null,null,null,null,"CL"]
["月","千葉大","がんｾﾝﾀｰ","船橋中央","県立佐原","千葉ﾘﾊﾋﾞﾘ","順大浦安","千葉青葉","東歯大市川","千葉MC","こども病院","日立認証値","日立平均","R","CL認証値","A&T平均","R","CL下限","CL上限","A&T下限","A&T上限","2015.02月値を100％に対する変化率"]
[2,null,null,110.05,109.21,null,105.30769230769231,null,110.117,null,null,106,{"$f":"AVERAGE(G3,H3)","v":105.30769230769231},{"$f":"MAX(G3,H3,C3)-MIN(G3,H3,C3)","v":0},109,{"$f":"AVERAGE(B3,C3,D3,E3,F3,I3,J3,K3)","v":109.79233333333333},{"$f":"MAX(B3,C3,D3,E3,F3,I3,J3,K3)-MIN(B3,C3,D3,E3,F3,I3,J3,K3)","v":0.90700000000001069},103,109,106,112,{"$f":"P3/P3*100","v":100}]
[3,109,104.80909090909094,109.66,109.05,109.4793103448276,105.18333333333332,105.1,110.01600000000001,108.9,108.21875,106,105.14166666666665,0.3742424242423823,109,108.64164390673982,{"$f":"MAX(B4,D4,E4,F4,I4,J4,K4)-MIN(B4,D4,E4,F4,I4,J4,K4)","v":1.7972500000000053},103,109,106,112,{"$f":"P4/P$3*100","v":98.951940093030004}]
[4,108.93703703703703,105.39599999999999,110.13,108.92,109.515625,104.67692307692309,104.3,109.995,109.02,108.71428571428571,106,104.48846153846154,1.0959999999999894,109,108.82849346891533,{"$f":"MAX(B5,D5,E5,F5,I5,J5,K5)-MIN(B5,D5,E5,F5,I5,J5,K5)","v":1.4157142857142873},103,109,106,112,{"$f":"P5/P$3*100","v":99.122124619128229}]
[5,108.88518518518516,104.83722222222224,110.68,108.8,109.52542372881356,104.79696969696967,103.8,108.499,109.71,108.2,106,104.29848484848483,1.0372222222222405,109,108.64210389202763,2.480000000000004,103,109,106,112,98.952359052418032]
[6,108.64444444444443,104.46318181818182,110.02,108.81,109.4328125,104.75098039215685,104,108.125,109.71,108.23809523809524,106,104.37549019607843,0.75098039215684764,109,108.43044175009018,1.894999999999996,103,109,106,112,98.759574970404913]
[7,108.840625,104.33750000000001,110.15,108.69,109.51967209999999,104.22105263157894,104.2,108.48099999999999,109.61,108.35294117647059,106,104.21052631578948,0.13750000000000284,109,108.49771728455883,1.7970588235294116,103,109,106,112,98.820850227452581]
[8,109.08124999999998,104.19772727272725,110.41,108.85,108.93593749999999,104.14210526315792,104.1,108.99299999999999,109.61,108.7,106,104.12105263157895,9.7727272727254899E-2,109,108.59723934659091,1.7099999999999937,103,109,106,112,98.911495957450796]
[9,108.89375000000001,104.22526315789473,110.68,108.59,108.83076923076922,104.85714285714286,104.6,109.161,109.34,108,106,104.72857142857143,{"$f":"MAX(G10,H10)-MIN(G10,H10)","v":0.25714285714286689},109,108.46509779858299,{"$f":"MAX(B10,C10,D10,E10,F10,I10,J10,K10)-MIN(B10,C10,D10,E10,F10,I10,J10,K10)","v":6.4547368421052767},103,109,106,112,98.791140060097987]
[10,108.99374999999999,104.83150000000001,110.02500000000001,108.56,109.1,104.6952380952381,104,109.021,109.23,108.94444444444444,106,104.34761904761905,0.69523809523809632,109,108.58821180555555,5.1935000000000002,103,109,106,112,98.903273579110447]
[11,108.97500000000002,104.89399999999998,109.1,108.61,109.29682539682544,104.43333333333332,104.4,109.206,109.38,108.7,106,104.41666666666666,3.3333333333317228E-2,109,108.52022817460319,4.4860000000000184,103,109,106,112,98.841353380415015]
[12,109.05624999999998,104.88409523809523,109.2,108.65,109.14912280701751,104.46,104.3,109.004,108.93,108.9375,106,104.38,0.15999999999999659,109,108.47637100563909,4.3159047619047755,103,109,106,112,98.801407814424593]
[1,108.86562499999999,104.66500000000001,109.16,108.73,109.20666666666665,104.80714285714286,103.6,109.288,109.05,108.82352941176471,106,104.20357142857142,1.2071428571428697,109,108.47360263480392,4.6229999999999905,103,109,106,112,98.798886353452659]
[2,109.065625,104.10250000000001,109.09,108.47,109.00655737704922,104.31428571428572,103.6,109.124,108.73,108.89473684210526,106,103.95714285714286,0.71428571428572241,109,108.31042740239431,5.021499999999989,103,109,106,112,98.650264653325195]
[3,109.04999999999998,103.94236363636364,109.99,108.59,109.03230769230764,105.43913043478263,104.4,109.19199999999999,109.72,108.94444444444444,106,104.91956521739132,1.0391304347826207,109,108.55763947163948,6.0476363636363573,103,109,106,112,98.875427979160179]
[4,109.0125,103.65050000000001,null,109.2,109.02241379310344,104.07368421052634,104.1,109.404,109.82,null,106,104.08684210526317,2.6315789473656537E-2,109,108.35156896551723,6.1694999999999851,103,109,106,112,98.687736817249444]
[5,108.89687500000002,104.1875,null,108.98,108.31333333333333,104.16190476190476,104.4,109.143,109.92,null,106,104.28095238095239,0.2380952380952408,109,108.24011805555556,5.7325000000000017,103,109,106,112,98.586226168392656]
[6,null,null,null,null,null,null,null,null,null,null,106,null,0,109,null,0,103,109,106,112,0]
[7,null,null,null,null,null,null,null,null,null,null,106,null,0,109,null,0,103,109,106,112,0]

{"sheet":"Ca","index":22,"n_rows":31,"n_cols":17,"rows_kept":31,"cut":false,"hidden":false,"merged":[]}
[null,null,null,null,null,"Ca"]
["月","千葉大","がんｾﾝﾀｰ","船橋中央","県立佐原","千葉ﾘﾊﾋﾞﾘ","順大浦安","千葉青葉","東歯大市川","千葉MC","こども病院","認証値","10病院平均","R","下限","上限","2015.02月値を100％に対する変化率"]
[2,null,null,11.048,11.14,null,11.268421052631581,null,11.153,null,null,11.3,{"$f":"AVERAGE(B3:K3)","v":11.152355263157895},{"$f":"MAX(B3:K3)-MIN(B3:K3)","v":0.22042105263158085},10.8,11.8,{"$f":"M3/M3*100","v":100}]
[3,11.359259259259261,11.423409090909093,11.007,11.11,11.304827586206898,11.237499999999999,11.27,11.067,11.44,11.307692307692308,11.3,11.252668824406756,0.43299999999999983,10.8,11.8,{"$f":"M4/M$3*100","v":100.89948319329685}]
[4,11.30740740740741,11.414249999999999,11.1,11.17,11.3140625,11.239102564102565,11.3,11.085000000000001,11.54,11.322727272727276,11.3,11.279254974423724,0.45499999999999829,10.8,11.8,{"$f":"M5/M$3*100","v":101.1378736443686}]
[5,11.351851851851857,11.384777777777778,11.066000000000001,11.16,11.523275862068965,11.206249999999997,11.33,11.095000000000001,11.55,11.275,11.3,11.294215549169859,0.48399999999999999,10.8,11.8,101.27202086612685]
[6,11.248148148148143,11.3865,11.109,11.13,11.530615384615388,11.199645390070923,11.21,11.115,11.39,11.285714285714286,11.3,11.260462320854874,0.42161538461538761,10.8,11.8,100.96936526093383]
[7,11.224999999999996,11.4954,11.175000000000001,11.11,11.53016667,11.26341463414634,11.13,11.063000000000001,11.37,11.28,11.3,11.264198130414634,0.46716666999999923,10.8,11.8,101.00286320349043]
[8,11.237499999999997,11.481,11.159000000000001,11.16,11.51131147540984,11.174561403508772,11.26,11.087999999999999,11.5,11.261904761904763,11.3,11.283327764082337,0.42331147540984126,10.8,11.8,101.17439319169748]
[9,11.274999999999999,11.420368421052633,11.185,11.14,11.444393939393935,11.215833333333332,11.17,11.083,11.31,11.223529411764705,11.3,11.24671251055446,0.36139393939393472,10.8,11.8,100.84607461984534]
[10,11.253124999999999,11.425549999999998,11.154,11.15,11.422881355932196,11.266666666666667,11.31,11.414999999999999,11.33,11.247368421052634,11.3,11.297459144365149,0.2755499999999973,10.8,11.8,101.30110526237097]
[11,11.246874999999996,11.460699999999999,11.202999999999999,11.21,11.511999999999997,11.334782608695651,11.26,11.378,11.36,11.252631578947367,11.3,11.321798918764301,0.3089999999999975,10.8,11.8,{"$f":"M12/M$3*100","v":101.51935310172702}]
[12,11.262500000000003,11.369714285714286,11.234,11.22,11.487368421052636,11.35378787878788,11.16,11.385,11.28,11.237500000000001,11.3,11.298987058555481,0.32736842105263619,10.8,11.8,{"$f":"M13/M$3*100","v":101.31480563466255}]
[1,11.281250000000002,11.340599999999998,11.226000000000001,11.18,11.447894736842105,11.387500000000003,11.08,11.523999999999999,11.31,11.2,11.3,11.297724473684211,0.44399999999999906,10.8,11.8,101.30348439496495]
[2,11.234375,11.467000000000002,11.265000000000001,11.19,11.326551724137929,11.398076923076925,11.22,11.452,11.18,11.210526315789474,11.3,11.294352996300432,0.28700000000000259,10.8,11.8,101.27325331548242]
[3,11.199999999999996,11.509636363636362,11.173999999999999,11.1,11.375781249999999,11.335802469135805,11.14,11.414999999999999,11.21,11.127777777777775,11.3,11.258799786054995,0.40963636363636269,10.8,11.8,100.95445778389738]
[4,11.268749999999997,11.501349999999999,null,11.09,11.424561403508772,11.283333333333333,11.17,11.365,11.23,null,11.3,11.291624342105262,0.41134999999999877,10.8,11.8,101.24878624883343]
[5,11.340624999999999,11.434749999999998,null,11.08,11.368275862068966,11.314285714285715,11.24,11.406000000000001,11.35,null,11.3,11.316742072044335,0.35474999999999746,10.8,11.8,101.47400979441083]
[6,null,null,null,null,null,null,null,null,null,null,11.3,null,0,10.8,11.8,0]
[7,null,null,null,null,null,null,null,null,null,null,11.3,null,0,10.8,11.8,0]
[]
[]
[]
[]
[]
[]
[]
[]
[]
[]
[null,null,null,null,null,null,"千葉大病院は２月からBM２２５０に変わりました。"]

{"sheet":"IP","index":23,"n_rows":20,"n_cols":17,"rows_kept":20,"cut":false,"hidden":false,"merged":[]}
[null,null,null,null,null,"IP"]
["月","千葉大","がんｾﾝﾀｰ","船橋中央","県立佐原","千葉ﾘﾊﾋﾞﾘ","順大浦安","千葉青葉","東歯大市川","千葉MC","こども病院","認証値","10病院平均","R","下限","上限","2015.02月値を100％に対する変化率"]
[2,null,null,6.0819999999999999,6.17,null,6.1899999999999968,null,6.125,null,null,6.1,{"$f":"AVERAGE(B3:K3)","v":6.1417499999999992},{"$f":"MAX(B3:K3)-MIN(B3:K3)","v":0.10799999999999699},5.9,6.3,{"$f":"M3/M3*100","v":100}]
[3,6.1925925925925913,6.1890909090909085,6.0570000000000004,6.15,6.1568965517241372,6.1769230769230754,6.13,6.157,6.05,6.0692307692307672,6.1,6.1328733899561483,0.14259259259259149,5.9,6.3,{"$f":"M4/M$3*100","v":99.855470996965835}]
[4,6.1999999999999993,6.1979999999999995,6.0519999999999996,6.01,6.1885714285714286,6.1230769230769218,6.1,6.0490000000000004,6.05,5.9772727272727275,6.1,6.0947921078921077,0.22272727272727177,5.9,6.3,{"$f":"M5/M$3*100","v":99.235431398088636}]
[5,6.1740740740740714,6.1937222222222221,6.1,6.09,6.1870689655172439,6.1111111111111081,6.1,6.032,6.07,5.9500000000000011,6.1,6.100797637292465,0.24372222222222106,5.9,6.3,99.333213453697496]
[6,6.1555555555555532,6.1948181818181816,6.07,6.1,6.1212307692307721,6.1242424242424223,6.15,6.0270000000000001,6.08,5.9666666666666668,6.1,6.0989513597513598,0.22815151515151477,5.9,6.3,99.30315235480704]
[7,6.1312499999999961,6.1494,6.0570000000000004,6.12,6.1318333330000003,6.0769841269841232,6.15,6.06,6.05,6.0117647058823529,6.1,6.0938232165866468,0.13823529411764746,5.9,6.3,99.21965590567261]
[8,6.1093749999999973,6.160772727272728,6.08,6.13,6.1076923076923064,6.1184210526315779,6.14,6.05,6.04,5.9454545454545462,6.1,6.0881715633051154,0.21531818181818174,5.9,6.3,99.127635662557353]
[9,6.1249999999999947,6.1587894736842115,6.0650000000000004,6.14,6.1128125000000004,6.1022727272727257,6.12,6.048,6.04,5.9318181818181843,6.1,6.0843692882775118,0.22697129186602716,5.9,6.3,99.065727004152109]
[10,6.1749999999999972,6.1566500000000008,6.07,6.16,6.0903333333333309,6.1880952380952374,6.15,6.1820000000000004,6.04,5.9999999999999991,6.1,6.1212078571428563,0.18809523809523832,5.9,6.3,99.665532741366178]
[11,6.1656249999999977,6.16995,6.07,6.13,6.1173333333333346,6.2304347826086959,6.12,6.1349999999999998,6.03,6.0150000000000006,6.1,6.1183343115942019,0.21543478260869531,5.9,6.3,99.618745660344416]
[12,6.1843749999999975,6.2009999999999987,6.0810000000000004,6.16,6.1196491228070196,6.172727272727272,6.2,6.1269999999999998,6.05,6.0250000000000004,6.1,6.1320751395534288,0.17599999999999838,5.9,6.3,99.842473880464524]
[1,6.1843749999999975,6.17875,6.0629999999999997,6.2,6.1189655172413788,6.1500000000000012,6.17,6.165,6.08,5.988235294117648,6.1,6.1298325811359025,0.21176470588235219,5.9,6.3,99.805960534634323]
[2,6.1406249999999973,6.1725000000000003,6.0970000000000004,6.19,6.1218333333333321,6.1857142857142851,6.2,6.1609999999999996,6.09,6.042105263157894,6.1,6.1400777882205517,0.1578947368421062,5.9,6.3,99.972773040591889]
[3,6.1687499999999966,6.1747727272727273,6.0890000000000004,6.2,6.1480645161290308,6.0982142857142838,6.21,6.1139999999999999,6.1,5.9833333333333343,6.1,6.1286134862449373,0.22666666666666568,5.9,6.3,99.786111226359552]
[4,6.099999999999997,6.1935999999999982,null,6.24,6.1682456140350883,6.1772727272727277,6.21,6.1230000000000002,6.05,null,6.1,6.1577647926634755,0.19000000000000039,5.9,6.3,100.26075292324626]
[5,6.1437499999999954,6.1792500000000006,null,6.24,6.176557377049182,6.1904761904761907,6.26,6.1660000000000004,6.06,null,6.1,6.1770041959406718,0.20000000000000018,5.9,6.3,100.57400897041842]
[6,null,null,null,null,null,null,null,null,null,null,6.1,null,0,5.9,6.3,0]
[7,null,null,null,null,null,null,null,null,null,null,6.1,null,0,5.9,6.3,0]

{"sheet":"Fe","index":24,"n_rows":20,"n_cols":17,"rows_kept":20,"cut":false,"hidden":false,"merged":[]}
[null,null,null,null,null,"Fe"]
["月","千葉大","がんｾﾝﾀｰ","船橋中央","県立佐原","千葉ﾘﾊﾋﾞﾘ","順大浦安","千葉青葉","東歯大市川","千葉MC","こども病院","認証値","10病院平均","R","下限","上限","2015.02月値を100％に対する変化率"]
[2,null,null,149.13,150.44999999999999,null,156.25,null,149.56899999999999,null,null,151,{"$f":"AVERAGE(B3:K3)","v":151.34975},{"$f":"MAX(B3:K3)-MIN(B3:K3)","v":7.1200000000000045},143,159,{"$f":"M3/M3*100","v":100}]
[3,151.96296296296296,149.72772727272726,150,149.86000000000001,151.70689655172416,156.5,150.69999999999999,149.31,148.71,150.85714285714286,151,150.93347296445572,7.789999999999992,143,159,{"$f":"M4/M$3*100","v":99.724956905746936}]
[4,151.74074074074073,149.27349999999996,148.85,150.68,152.36562499999999,156.51923076923077,150,149.404,149.28,152.46666666666667,151,151.05797631766382,7.6692307692307793,143,159,{"$f":"M5/M$3*100","v":99.807218920192341}]
[5,151.96296296296296,149.40777777777782,149.63,150.72999999999999,153.66271186440679,156.31818181818181,150.19999999999999,150.202,149.56,153.26315789473685,151,151.49367923180662,6.9104040404039893,143,159,100.09509710574787]
[6,151.74074074074073,149.37909090909091,149.19999999999999,150.4,152.7938461538462,156.40909090909091,149.30000000000001,148.51499999999999,149.9,153.76190476190476,151,151.13996734746735,7.8940909090909201,143,159,99.861392138055962]
[7,152.0625,149.26149999999998,147.75,150.07,152.27457630000001,154.90243902439025,149.1,148.01599999999999,148.41999999999999,153.42857142857142,151,150.52855867529618,7.1524390243902474,143,159,99.457421419788389]
[8,151.875,149.04409090909095,149.5,150.26,152.75692307692313,154.15789473684211,149.9,148.66,147.9,152.09090909090909,151,150.61448178137655,6.2578947368421041,143,159,99.514192644108462]
[9,152.25,149.99105263157892,151.05000000000001,149.93,153.80153846153846,156.09090909090909,149.69999999999999,148.90600000000001,150.54,153.40909090909091,151,151.56685910931174,7.1849090909090876,143,159,100.14344860781847]
[10,151.9375,149.92350000000002,148.57,150.27000000000001,153.62166666666661,156.66666666666666,149.5,147.75299999999999,149.04,152.1,151,150.93823333333333,8.9136666666666713,143,159,99.72810218274779]
[11,152.03125,149.64399999999998,147.72,150.28,155.08166666666665,156.58771929824562,150,147.392,149.6,152.19999999999999,151,151.05366359649125,9.1957192982456206,143,159,99.804369413554525]
[12,152.03125,150.33204761904764,148.38999999999999,149.94999999999999,154.19090909090906,155.86363636363637,150.1,147.60900000000001,148.09,152.0625,151,150.86193430735926,8.2546363636363651,143,159,99.677689792919551]
[1,152.71875,150.08455000000004,150.13,149.55000000000001,153.98275862068968,156.66666666666666,149.80000000000001,147.673,148.66999999999999,151.76470588235293,151,151.10404311697093,8.9936666666666554,143,159,99.83765623462935]
[2,151.40625,149.67585000000003,149.88,149.97,153.50166666666664,156.875,149.9,148.10400000000001,147.88999999999999,152.1764705882353,151,150.93792372549021,8.9850000000000136,143,159,99.72789761825851]
[3,151.125,149.43868181818181,148.02000000000001,150.12,152.7734375,156.14285714285714,150.19999999999999,147.577,147.47999999999999,152.55555555555554,151,150.54325320165944,8.662857142857149,143,159,99.467130406002951]
[4,151.15625,149.47085000000001,null,149.75,151.8140350877193,156.28260869565219,148.30000000000001,148.43,147.15,null,151,150.29421797292144,9.1326086956521806,143,159,99.302587531807248]
[5,151.3125,150.32749999999999,null,149.79,153.90350877192989,154.85714285714286,149.80000000000001,148.21700000000001,147.54,null,151,150.7184564536341,7.3171428571428692,143,159,99.582890922273805]
[6,null,null,null,null,null,null,null,null,null,null,151,null,0,143,159,0]
[7,null,null,null,null,null,null,null,null,null,null,151,null,0,143,159,0]

{"sheet":"CRP","index":25,"n_rows":20,"n_cols":17,"rows_kept":20,"cut":false,"hidden":false,"merged":[]}
[null,null,null,null,null,"CRP"]
["月","千葉大","がんｾﾝﾀｰ","船橋中央","県立佐原","千葉ﾘﾊﾋﾞﾘ","順大浦安","千葉青葉","東歯大市川","千葉MC","こども病院","認証値","10病院平均","R","下限","上限","2015.02月値を100％に対する変化率"]
[2,null,null,2.2075,2.25,null,2.317625,null,2.2410000000000001,null,null,2.2799999999999998,{"$f":"AVERAGE(B3:K3)","v":2.2540312499999997},{"$f":"MAX(B3:K3)-MIN(B3:K3)","v":0.11012500000000003},2.08,2.48,{"$f":"M3/M3*100","v":100}]
[3,2.2796296296296292,2.2454545454545456,2.2088999999999999,2.25,2.2032413793103451,2.3111538461538461,2.218,2.2930000000000001,2.39,2.2509375,2.2799999999999998,2.2650316900548364,0.18675862068965499,2.08,2.48,{"$f":"M4/M$3*100","v":100.4880340525375}]
[4,2.2877777777777779,2.2376999999999994,2.2286999999999999,2.2599999999999998,2.192609375,2.3040384615384615,2.1960000000000002,2.2629999999999999,2.38,2.2640909090909092,2.2799999999999998,2.2613916523407145,0.18739062499999992,2.08,2.48,{"$f":"M5/M$3*100","v":100.32654393503704}]
[5,2.2651851851851847,2.2333888888888893,2.2545000000000002,2.25,2.1935423728813555,2.2814040404040399,2.161,2.242,2.41,2.2670000000000003,2.2799999999999998,2.2558020487359469,0.24900000000000011,2.08,2.48,100.07856141018219]
[6,2.2777777777777777,2.2414090909090914,2.2682000000000002,2.2400000000000002,2.2047575757575757,2.2332303030303033,2.1749999999999998,2.2719999999999998,2.39,2.2452380952380957,2.2799999999999998,2.2547612842712845,0.2150000000000003,2.08,2.48,100.03238793922155]
[7,2.2834374999999998,2.2637499999999999,2.2555000000000001,2.2799999999999998,2.2030491799999998,2.2046747967479674,2.1709999999999998,2.2869999999999999,2.36,2.2517647058823527,2.2799999999999998,2.2560176182630318,0.18900000000000006,2.08,2.48,100.08812514303128]
[8,2.2912499999999998,2.2459545454545449,2.2673000000000001,2.23,2.2099384615384623,2.2492105263157898,2.1720000000000002,2.3130000000000002,2.39,2.27,2.2799999999999998,2.2638653533308797,0.21799999999999997,2.08,2.48,100.43628957366408]
[9,2.2909375000000005,2.2576315789473682,2.2642000000000002,2.31,2.212276923076923,2.1710227272727276,2.16,2.2480000000000002,2.35,2.2613636363636362,2.2799999999999998,2.252543236566066,0.18999999999999995,2.08,2.48,99.933984347646742]
[10,2.2931250000000003,2.3274499999999998,2.2967,2.31,2.2052333333333327,2.2361190476190473,2.173,2.2370000000000001,2.31,2.1733333333333333,2.2799999999999998,2.2561960714285711,0.15444999999999975,2.08,2.48,100.09604221008787]
[11,2.2881250000000004,2.3524000000000003,2.3372999999999999,2.3199999999999998,2.2076166666666666,2.211644927536232,2.1909999999999998,2.2400000000000002,2.2999999999999998,2.1764705882352939,2.2799999999999998,2.2624557182438196,0.17592941176470633,2.08,2.48,100.37375117331757]
[12,2.2843750000000003,2.3501904761904764,2.3437999999999999,2.27,2.2142542372881349,2.1860227272727268,2.1760000000000002,2.2549999999999999,2.3199999999999998,2.187272727272727,2.2799999999999998,2.2586915168024069,0.17419047619047623,2.08,2.48,100.20675253736641]
[1,2.3231249999999997,2.3335499999999998,2.3411,2.29,2.2395357142857142,2.1479333333333335,2.1539999999999999,2.2930000000000001,2.38,2.3338461538461539,2.2799999999999998,2.2836090201465202,0.23206666666666642,2.08,2.48,101.31221650749166]
[2,2.3228124999999999,2.3376000000000001,2.3058000000000001,2.29,2.2565263157894737,2.2327261904761904,2.1419999999999999,2.294,2.36,2.3426315789473682,2.2799999999999998,2.2884096585213034,0.21799999999999997,2.08,2.48,101.52519662366277]
[3,2.2946875000000002,2.318772727272727,2.2873000000000001,2.2999999999999998,2.3045147058823523,2.1698928571428566,2.177,2.2909999999999999,2.36,2.3515384615384614,2.2799999999999998,2.2854706251836396,0.19010714285714325,2.08,2.48,101.39480653534152]
[4,2.2643749999999998,2.3181500000000002,null,2.31,2.3029824561403514,2.1111376811594202,2.206,2.2679999999999998,2.39,null,2.2799999999999998,2.2713306421624715,0.27886231884057988,2.08,2.48,100.76748679338283]
[5,2.2803125,2.3039999999999994,null,2.31,2.286576271186441,2.250909090909091,2.2530000000000001,2.2930000000000001,2.38,null,2.2799999999999998,2.2947247327619413,0.12909090909090892,2.08,2.48,101.8053646222492]
[6,null,null,null,null,null,null,null,null,null,null,2.2799999999999998,null,0,2.08,2.48,0]
[7,null,null,null,null,null,null,null,null,null,null,2.2799999999999998,null,0,2.08,2.48,0]

{"sheet":"IgG","index":26,"n_rows":20,"n_cols":17,"rows_kept":20,"cut":false,"hidden":false,"merged":[]}
[null,null,null,null,null,"IgG"]
["月","千葉大","がんｾﾝﾀｰ","船橋中央","県立佐原","千葉ﾘﾊﾋﾞﾘ","順大浦安","千葉青葉","東歯大市川","千葉MC","こども病院","認証値","9病院平均","R","下限","上限","2015.02月値を100％に対する変化率"]
[2,null,null,965.04,1000.8,null,974.72500000000002,null,1000.556,null,null,985,{"$f":"AVERAGE(B3:K3)","v":985.28025000000002},{"$f":"MAX(B3:K3)-MIN(B3:K3)","v":35.759999999999991},935,1035,{"$f":"M3/M3*100","v":100}]
[3,1004.2592592592592,982.08090909090924,1000.61,1002.25,994.39655172413791,972.68,null,991.89200000000005,981.04,970.08333333333337,985,988.81022815640449,34.175925925925867,935,1035,{"$f":"M4/M$3*100","v":100.35827148229191}]
[4,999.11111111111109,974.75200000000007,999.4,995.1,989.32343749999995,982.05555555555554,null,995.38800000000003,982.64,969.66666666666663,985,987.49297453703707,29.733333333333348,935,1035,{"$f":"M5/M$3*100","v":100.22457818849379}]
[5,993.74074074074076,986.37166666666678,989.24,997.72,996.72542372881355,970.44949494949503,null,987.18799999999999,994.33,987.68421052631584,985,989.27217073467023,27.270505050504994,935,1035,100.40515586653342]
[6,1001.7037037037037,979.10727272727263,996.66,994.91,1000.7676923076922,967.9727272727273,null,988.06899999999996,986.4,992.76190476190482,985,989.81692230814451,33.730976430976398,935,1035,100.46044486410281]
[7,998.15625,999.91499999999996,987.83,997.98,1003.388525,966.30487804878032,null,995.94200000000001,988.98,1014.7058823529412,985,994.80028171130232,48.401004304160892,935,1035,100.96622577295162]
[8,997.03125,990.41227272727303,980.8,995.75,997.65692307692302,964.02631578947364,null,990.202,982.13,1007.3181818181819,985,989.4807714902056,43.291866028708228,935,1035,100.42632758448224]
[9,999.09375,984.0189473684211,986.25,998.62,1002.7349206349205,994.1403508771931,null,996.48199999999997,1001.38,993.38095238095241,985,995.12232458460983,18.715973266499418,935,1035,100.99891118132224]
[10,1001.59375,1000.3865000000002,985.45,1004.2,1001.44,995.28571428571433,null,1001.574,985.54,979.61904761904759,985,995.00989021164014,24.580952380952453,935,1035,100.98749977091697]
[11,1000.25,1029.4259999999999,996.67,992.74,1004.051851851852,994.88405797101439,null,999.24400000000003,1002.76,991.3,985,1001.258434424763,38.125999999999976,935,1035,101.62168930360301]
[12,1002.78125,1023.6351428571428,991.28,1005.38,1005.125,999.74242424242414,null,997.25,989.63,985.35714285714289,985,1000.0201066618566,38.277999999999906,935,1035,101.49600650798152]
[1,1004.09375,984.09821052631571,976.13,980.93,1005.9421052631581,986.78571428571433,null,1002.9880000000001,991,958.82352941176475,985,987.8657010541059,47.118575851393302,935,1035,100.26240768087109]
[2,997.625,983.56914999999992,983.12,984.14,992.91639344262285,999.55555555555554,null,999.61699999999996,999.33,979,985,990.98589988868639,20.616999999999962,935,1035,100.57908903468697]
[3,998.6875,993.5534090909091,997.77,983.81,994.23538461538453,1008.7471264367816,null,1002.213,997.15,986.375,985,995.8379355714527,24.937126436781682,935,1035,101.07154137834922]
[4,996.15625,993.42834999999991,null,985.84,995.20545454545436,1008.623188405797,null,989.7,993.1,null,985,994.57903470732163,22.783188405796977,935,1035,100.94377053709557]
[5,992.53125,985.29750000000001,null,998.07,1015.0234042553191,1017.8095238095239,null,993.65899999999999,991.68,null,985,999.15295400926334,32.512023809523839,935,1035,101.40799574631312]
[6,null,null,null,null,null,null,null,null,null,null,985,null,0,935,1035,0]
[7,null,null,null,null,null,null,null,null,null,null,985,null,0,935,1035,0]

{"sheet":"IgA","index":27,"n_rows":20,"n_cols":17,"rows_kept":20,"cut":false,"hidden":false,"merged":[]}
[null,null,null,null,null,"IgA"]
["月","千葉大","がんｾﾝﾀｰ","船橋中央","県立佐原","千葉ﾘﾊﾋﾞﾘ","順大浦安","千葉青葉","東歯大市川","千葉MC","こども病院","認証値","9病院平均","R","下限","上限","2015.02月値を100％に対する変化率"]
[2,null,null,186.79,194.31,null,192,null,199.667,null,null,196,{"$f":"AVERAGE(B3:K3)","v":193.19175000000001},{"$f":"MAX(B3:K3)-MIN(B3:K3)","v":12.87700000000001},176,216,{"$f":"M3/M3*100","v":100}]
[3,197.55555555555554,192.19363636363633,191.75,193.45,195.05862068965516,189.38095238095238,null,195.66300000000001,185.29,199.33333333333334,196,193.29723314701474,14.043333333333351,176,216,{"$f":"M4/M$3*100","v":100.05460023371324}]
[4,192.96296296296296,191.74949999999998,196.76,191.32,196.62968749999999,192.65079365079367,null,195.05,186.46,198.25,196,193.5369937904174,11.789999999999992,176,216,{"$f":"M5/M$3*100","v":100.17870524513464}]
[5,193.62962962962962,191.55333333333334,190.75,189.74,199.94576271186438,193.85858585858588,null,193.357,186.42,197.68421052631578,196,192.9931691177477,13.525762711864388,176,216,99.897210474954377]
[6,191.77777777777777,191.23727272727274,190.89,190.18,194.453125,192.43030303030307,null,191.84100000000001,187.54,197.28571428571428,196,191.95946586900754,9.7457142857142856,176,216,99.362144537231814]
[7,194.25,194.721,194.4,190.6,196,191.58119658119659,null,194.60499999999999,187.32,197.8235294117647,196,193.47785844366234,10.503529411764703,176,216,100.14809558051124]
[8,190.125,192.41454545454545,187.81,188.09,196.28,194.62962962962962,null,188.286,183.12,195.7,196,190.71724167601948,13.159999999999997,176,216,98.719143895129818]
[9,192.59375,191.55210526315787,192.28,190.68,195.02580645161294,195.78787878787881,null,191.226,179.54,197.71428571428572,196,191.82220291299279,18.17428571428573,176,216,99.291094424577025]
[10,193.21875,194.72800000000001,189.47,189.71,196.99333333333334,194.71428571428572,null,194.52500000000001,187.44,195.35714285714286,196,192.9062791005291,9.5533333333333417,176,216,99.852234425398137]
[11,193.6875,196.23700000000002,194.03,191.58,194.12037037037041,196.56060606060603,null,197.69200000000001,187.98,186.95,196,193.20416404788631,10.742000000000019,176,216,100.00642576501653]
[12,196.625,196.47076190476187,191.81,191.18,195.87857142857146,197.43333333333334,null,195.94,187.89,187.8125,196,193.4489074074074,9.6208333333333371,176,216,100.13310993218261]
[1,195.40625,190.22015789473684,188.12,190.07,196.88,189.53571428571428,null,196.43899999999999,188.19,189.1764705882353,196,191.55973252985407,8.7599999999999909,176,216,99.155234387521247]
[2,193.90625,187.68,190.93,190.26,196.01698113207547,192.70000000000005,null,193.96199999999999,186.22,192.78947368421052,196,191.60718942403179,9.7969811320754729,176,216,99.179799046300772]
[3,192.4375,191.95036363636365,192,188.85,189.79076923076926,194.28571428571428,null,196.482,185.87,190.07692307692307,196,191.30480780330782,10.611999999999995,176,216,99.023280136604072]
[4,192.03125,191.95665,null,184.9,196.92857142857139,192.78985507246375,null,195.494,184.94,null,196,191.29147521443358,12.028571428571382,176,216,99.016378915990757]
[5,192.125,191.05,null,189.19,199.15283018867925,194.0952380952381,null,193.93,189.34,null,196,192.69758118341676,9.9628301886792485,176,216,99.744208116245517]
[6,null,null,null,null,null,null,null,null,null,null,196,null,0,176,216,0]
[7,null,null,null,null,null,null,null,null,null,null,196,null,0,176,216,0]

{"sheet":"IgM","index":28,"n_rows":20,"n_cols":17,"rows_kept":20,"cut":false,"hidden":false,"merged":[]}
[null,null,null,null,null,"IgM"]
["月","千葉大","がんｾﾝﾀｰ","船橋中央","県立佐原","千葉ﾘﾊﾋﾞﾘ","順大浦安","千葉青葉","東歯大市川","千葉MC","こども病院","認証値","9病院平均","R","下限","上限","2015.02月値を100％に対する変化率"]
[2,null,null,89.36,94.85,null,89.756097560975604,null,89.944000000000003,null,null,91,{"$f":"AVERAGE(B3:K3)","v":90.9775243902439},{"$f":"MAX(B3:K3)-MIN(B3:K3)","v":5.4899999999999949},81,101,{"$f":"M3/M3*100","v":100}]
[3,92.518518518518519,88.067272727272737,93.05,94.05,91.8,89.44,null,89.686999999999998,88.54,91,91,90.905865693976807,5.98272727272726,81,101,{"$f":"M4/M$3*100","v":99.921234726106945}]
[4,92.037037037037038,88.099000000000004,92.82,94.49,91.6171875,88.753086419753075,null,90.55,89.66,90.2,91,90.914034550754465,6.3909999999999911,81,101,{"$f":"M5/M$3*100","v":99.93021370946839}]
[5,91.037037037037038,87.316666666666663,92.14,93.56,92.294915254237281,87.242424242424249,null,90.753,90.33,89.473684210526315,91,90.460858601210191,6.317575757575753,81,101,99.432095132840175]
[6,90.592592592592595,87.920909090909092,92.52,93.2,92.361538461538458,87.427272727272722,null,91.057000000000002,89.46,89.523809523809518,91,90.451458044013592,5.7727272727272805,81,101,99.421762298154249]
[7,91.9375,90.503999999999991,93.28,94.53,92.250819669999998,87.158536585365866,null,93.093000000000004,88.5,90.125,91,91.264317361707313,7.3714634146341353,81,101,100.31523496971981]
[8,91,89.496363636363625,91.29,94.05,92.381538461538469,87.368421052631575,null,90.048000000000002,87.75,96,91,91.042702572281527,8.6315789473684248,81,101,100.07164207036242]
[9,91,88.9,90.17,94.32,92.058461538461586,89.38636363636364,null,91.536000000000001,86.77,95.19047619047619,91,91.03681126281127,8.4204761904761938,81,101,100.06516650454573]
[10,91.9375,90.861999999999995,90.88,92.95,90.022033898305096,94.825396825396837,null,89.5,88.14,94.6875,91,91.533825635966878,6.6853968253968361,81,101,100.61147107425867]
[11,91.75,89.674499999999981,95.72,92.7,90.058333333333337,94.615942028985515,null,90.44,87.92,87.65,91,91.16986392914653,8.0699999999999932,81,101,100.21141434677602]
[12,91.09375,89.365714285714276,88.95,94.05,90.443859649122828,94.659090909090907,null,90.084999999999994,87.54,87.3125,91,90.388879427103106,7.3465909090909065,81,101,99.352977598493638]
[1,91.4375,86.028894736842105,87.25,90.88,90.448275862068982,95.833333333333329,null,91.468999999999994,86.85,87,91,89.688555992471606,9.8044385964912237,81,101,98.583201283601298]
[2,90.75,86.405850000000015,88.99,91.69,90.626229508196715,95.684523809523824,null,91.039000000000001,86.07,87.263157894736835,91,89.835417912495259,9.6145238095238312,81,101,98.744627878804849]
[3,90.8125,91.338272727272738,89.22,91.83,89.767187500000006,89.136904761904773,null,91.463999999999999,86.08,86,91,89.516540554353071,5.8299999999999983,81,101,98.394126631074272]
[4,90.03125,91.094149999999999,null,92.35,91.005172413793105,92.376811594202891,null,91.847999999999999,86.21,null,91,90.702197715428014,6.1668115942028976,81,101,99.697368469123333]
[5,90,87.745000000000005,null,93.11,92.858620689655197,90.142857142857139,null,90.977000000000004,86.04,null,91,90.124782547501766,7.0699999999999932,81,101,99.062689550570383]
[6,null,null,null,null,null,null,null,null,null,null,91,null,0,81,101,0]
[7,null,null,null,null,null,null,null,null,null,null,91,null,0,81,101,0]

{"sheet":"LDL","index":29,"n_rows":20,"n_cols":22,"rows_kept":20,"cut":false,"hidden":false,"merged":[]}
[null,null,null,null,null,"LDL"]
["月","千葉大","がんｾﾝﾀｰ","船橋中央","県立佐原","千葉ﾘﾊﾋﾞﾘ","順大浦安","千葉青葉","東歯大市川","千葉MC","こども病院","協和認証値","協和平均","R","積水認証値","積水平均","R","協和下限","協和上限","積水下限","積水上限","2015.02月値を100％に対する変化率"]
[2,null,null,60.33,61.33,null,61.814634146341454,null,58.805999999999997,null,null,80,null,{"$f":"MAX(B3,F3)-MIN(B3,F3)","v":0},61,{"$f":"AVERAGE(D3,E3,G3,H3,I3,J3)","v":60.570158536585367},{"$f":"MAX(D3,E3,G3,H3,I3,J3)-MIN(D3,E3,G3,H3,I3,J3)","v":3.008634146341457},75,85,56,66,{"$f":"P3/P3*100","v":100}]
[3,79.629629629629633,null,59.82,61.24,78.093103448275841,61.307999999999993,59.3,59.636000000000003,59.3,null,80,{"$f":"AVERAGE(B4,F4)","v":78.861366538952737},{"$f":"MAX(B4,F4)-MIN(B4,F4)","v":1.5365261813537927},61,60.100666666666676,2.0079999999999956,75,85,56,66,{"$f":"P4/P$3*100","v":99.224879245387626}]
[4,79.666666666666671,null,59.52,60.96,78.228125000000006,59.990909090909092,59,58.48,59.76,null,80,78.947395833333331,1.4385416666666657,61,59.618484848484847,2.480000000000004,75,85,56,66,{"$f":"P5/P$3*100","v":98.428807665204161}]
[5,79.925925925925924,null,60.29,57.21,76.612499999999997,61.469696969696955,59.2,58.055,60.42,null,80,78.269212962962968,3.3134259259259267,61,59.440782828282828,4.2596969696969538,75,85,56,66,98.135425536949228]
[6,79.629629629629633,null,60.3,60.05,76.07592592592593,60.972727272727262,60.6,58.232999999999997,60.87,null,80,77.852777777777789,3.5537037037037038,61,60.170954545454542,2.739727272727265,75,85,56,66,99.340922987860921]
[7,79.59375,null,60.1,59.94,77.89016393,60.862280701754401,60.9,57.688000000000002,60.3,null,80,78.741956965,1.7035860700000001,61,59.965046783625731,3.2119999999999962,75,85,56,66,99.000973800334137]
[8,79.9375,null,59.86,59.5,77.268253968253944,60.147368421052626,60.9,58.24,59.85,null,80,78.602876984126965,2.6692460317460558,61,59.749561403508778,2.6599999999999966,75,85,56,66,98.645212175594793]
[9,79.59375,null,60.08,59.24,77.826153846153829,60.274999999999999,61,58.701000000000001,59.12,null,80,78.709951923076915,1.7675961538461706,61,59.735999999999997,2.2989999999999995,75,85,56,66,98.622822596573641]
[10,79.375,null,59.96,59.62,76.398039215686282,63.097619047619055,61.1,59.713999999999999,59.75,null,80,77.886519607843141,2.976960784313718,61,60.54026984126984,3.4776190476190578,75,85,56,66,99.950654421190805]
[11,79.53125,null,60.1,60.22,76.107017543859669,63.505797101449289,61.9,59.255000000000003,60.81,null,80,77.819133771929842,3.4242324561403308,61,60.965132850241552,4.2507971014492867,75,85,56,66,100.6520939076255]
[12,79.84375,null,60.78,61.02,77.466666666666697,63.282575757575756,61.7,59.228000000000002,60.85,null,80,78.655208333333348,2.377083333333303,61,61.143429292929305,4.0545757575757548,75,85,56,66,100.94645741433494]
[1,80.3125,null,60.79,61.83,78.014814814814812,62.121111111111112,61,58.604999999999997,61.1,null,80,79.163657407407413,{"$f":"MAX(B14,F14)-MIN(B14,F14)","v":2.2976851851851876},61,60.907685185185187,3.5161111111111154,75,85,56,66,100.55724907570772]
[2,79.78125,null,60.58,61.22,77.966101694915253,62.080357142857132,60.9,57.947000000000003,59.92,null,80,78.873675847457633,1.8151483050847474,61,60.441226190476193,4.133357142857129,75,85,56,66,99.787135531383328]
[3,80.1875,null,60,61.24,77.27936507936505,61.475595238095238,60.3,60.773000000000003,59.29,null,80,78.733432539682525,2.90813492063495,61,60.513099206349217,2.1855952380952388,75,85,56,66,99.905796300332142]
[4,78.90625,null,null,60.74,77.682456140350865,63.702898550724633,60.8,60.527000000000001,61.19,null,80,78.294353070175433,1.2237938596491347,61,61.391979710144923,3.1758985507246322,75,85,56,66,101.35680868832986]
[5,79.1875,null,null,60.08,76.563265306122432,63.271428571428572,62.5,60.198999999999998,61.58,null,80,77.875382653061223,{"$f":"MAX(B18,F18)-MIN(B18,F18)","v":2.6242346938775682},61,61.526085714285713,{"$f":"MAX(D18,E18,G18,H18,I18,J18)-MIN(D18,E18,G18,H18,I18,J18)","v":3.1914285714285739},75,85,56,66,{"$f":"P18/P$3*100","v":101.57821475260454}]
[6,null,null,null,null,null,null,null,null,null,null,80,null,{"$f":"MAX(B19,F19)-MIN(B19,F19)","v":0},61,null,{"$f":"MAX(D19,E19,G19,H19,I19,J19)-MIN(D19,E19,G19,H19,I19,J19)","v":0},75,85,56,66,{"$f":"P19/P$3*100","v":0}]
[7,null,null,null,null,null,null,null,null,null,null,80,null,{"$f":"MAX(B20,F20)-MIN(B20,F20)","v":0},61,null,{"$f":"MAX(D20,E20,G20,H20,I20,J20)-MIN(D20,E20,G20,H20,I20,J20)","v":0},75,85,56,66,{"$f":"P20/P$3*100","v":0}]

{"sheet":"Mg","index":30,"n_rows":20,"n_cols":17,"rows_kept":20,"cut":false,"hidden":false,"merged":[]}
[null,null,null,null,null,"Mg"]
["月","千葉大","がんｾﾝﾀｰ","船橋中央","県立佐原","千葉ﾘﾊﾋﾞﾘ","順大浦安","千葉青葉","東歯大市川","千葉MC","こども病院","認証値","6病院平均","R","下限","上限","2015.02月値を100％に対する変化率"]
[2,null,null,2.903,null,null,null,null,2.6469999999999998,null,null,2.7,{"$f":"AVERAGE(B3:K3)","v":2.7749999999999999},{"$f":"MAX(B3:K3)-MIN(B3:K3)","v":0.25600000000000023},2.5,2.9,{"$f":"M3/M3*100","v":100}]
[3,2.7555555555555546,2.7024090909090908,2.891,null,null,null,2.75,2.657,2.7,2.7807692307692298,2.7,2.7481048396048395,0.23399999999999999,2.5,2.9,{"$f":"M4/M$3*100","v":99.030805030805041}]
[4,2.7148148148148161,2.7183499999999996,2.9079999999999999,null,null,null,2.72,2.629,2.72,2.7954545454545445,2.7,2.7436599086099087,0.27899999999999991,2.5,2.9,{"$f":"M5/M$3*100","v":98.87062733729401}]
[5,2.7444444444444449,2.6922777777777771,2.8879999999999999,null,null,null,2.73,2.585,2.73,2.7899999999999991,2.7,2.7371031746031744,0.30299999999999994,2.5,2.9,98.63434863434864]
[6,2.7222222222222228,2.7098636363636364,2.8660000000000001,null,null,null,2.68,2.6240000000000001,2.74,2.7809523809523804,2.7,2.7318626056483204,0.24199999999999999,2.5,2.9,98.445499302642176]
[7,2.7062500000000016,2.7150999999999996,2.8849999999999998,null,null,null,2.67,2.7050000000000001,2.72,2.7941176470588229,2.7,2.742209663865546,0.21499999999999986,2.5,2.9,98.818366265425084]
[8,2.725000000000001,2.6945909090909095,2.9,null,null,null,2.67,2.617,2.67,2.8045454545454533,2.7,2.7258766233766241,0.28299999999999992,2.5,2.9,98.229788229788255]
[9,2.7468750000000002,2.6813684210526314,2.9049999999999998,null,null,null,2.63,2.605,2.62,2.7954545454545445,2.7,2.7119568523581679,0.29999999999999982,2.5,2.9,97.728174859753807]
[10,2.7312500000000006,2.7018999999999997,2.8860000000000001,null,null,null,2.65,2.6970000000000001,2.71,2.7904761904761903,2.7,2.7380894557823132,0.23600000000000021,2.5,2.9,98.669890298461738]
[11,2.7062500000000012,2.7132499999999995,2.9,null,null,null,2.67,2.64,2.7,2.7699999999999996,2.7,2.7285000000000004,0.25999999999999979,2.5,2.9,98.324324324324337]
[12,2.7125000000000008,2.7103809523809526,2.9159999999999999,null,null,null,2.64,2.633,2.64,2.7687499999999998,2.7,2.7172329931972792,0.28299999999999992,2.5,2.9,97.918306061163221]
[1,2.7156250000000011,2.7119000000000004,2.9049999999999998,null,null,null,2.65,2.601,2.67,2.7352941176470598,2.7,2.7126884453781517,0.30399999999999983,2.5,2.9,97.754538572185652]
[2,2.7375000000000003,2.7824499999999999,2.879,null,null,null,2.7170000000000001,2.69,2.71,2.7736842105263149,2.7,2.7556620300751882,0.18900000000000006,2.5,2.9,99.303136218925701]
[3,2.7531249999999998,2.7734545454545452,2.9,null,null,null,2.7,2.6459999999999999,2.68,2.7944444444444434,2.7,2.7495748556998558,0.254,2.5,2.9,99.083778583778596]
[4,2.7531250000000003,2.7687000000000004,null,null,null,null,2.7,2.7040000000000002,2.69,null,2.7,2.7231650000000003,7.8700000000000436E-2,2.5,2.9,98.132072072072091]
[5,2.7593750000000004,2.7708999999999993,null,null,null,null,2.74,2.694,2.73,null,2.7,2.738855,7.6899999999999302E-2,2.5,2.9,98.697477477477477]
[6,null,null,null,null,null,null,null,null,null,null,2.7,null,{"$f":"MAX(B19:K19)-MIN(B19:K19)","v":0},2.5,2.9,{"$f":"M19/M$3*100","v":0}]
[7,null,null,null,null,null,null,null,null,null,null,2.7,null,{"$f":"MAX(B20:K20)-MIN(B20:K20)","v":0},2.5,2.9,{"$f":"M20/M$3*100","v":0}]

{"sheet":"2016.2月を100％とした時の活性変化率","index":31,"n_rows":19,"n_cols":31,"rows_kept":19,"cut":false,"hidden":false,"merged":[]}
["月","AST","ALT","ALP","LD","CPK","rGT","AMY","CHE","TCH","TG","HDL","TBIL","TP","ALB","BUN","CRE","UA","GLU","Na","K","CL","Ca","IP","Fe","CRP","IgG","IgA","IgM","LDL","Mg"]
["16.02",100,100,100,100,100,100,100,100,100,100,100,100,100,100,100,100,100,100,100,100,100,100,100,100,100,100,100,100,100,100]
[3,{"$f":"INDIRECT(B$1&\"!Q4\")","v":100},100,99.883711590657825,100.01149215842315,99.574821180938073,100.2692186981581,99.987483094659396,98.907653141761799,99.808713071539444,100.44357519635001,{"$f":"INDIRECT(L$1&\"!V4\")","v":99.302662993673536},{"$f":"INDIRECT(M$1&\"!Q4\")","v":101.38244510885851},{"$f":"INDIRECT(N$1&\"!Q4\")","v":100.12028157552952},{"$f":"INDIRECT(O$1&\"!V4\")","v":100.38933777541924},{"$f":"INDIRECT(P$1&\"!Q4\")","v":100.14464651677186},99.560049227016762,100.1168363806047,99.403075983076107,99.500785186861876,99.429314482560599,{"$f":"INDIRECT(V$1&\"!V4\")","v":98.951940093030004},{"$f":"INDIRECT(W$1&\"!Q4\")","v":100.89948319329685},99.855470996965835,99.724956905746936,100.4880340525375,100.35827148229191,100.05460023371324,99.921234726106945,{"$f":"INDIRECT(AD$1&\"!V4\")","v":99.224879245387626},{"$f":"INDIRECT(AE$1&\"!Q4\")","v":99.030805030805041}]
[4,{"$f":"INDIRECT(B$1&\"!Q5\")","v":99.833497951926176},99.222350550817922,99.469209493666042,100.28479638348568,99.312399110105005,100.70761371943591,100.15445602161999,98.875605328233519,99.660570601809184,100.51067385119588,{"$f":"INDIRECT(L$1&\"!V5\")","v":99.007434812801051},{"$f":"INDIRECT(M$1&\"!Q5\")","v":101.40591406914272},{"$f":"INDIRECT(N$1&\"!Q5\")","v":100.04311145861094},{"$f":"INDIRECT(O$1&\"!V5\")","v":100.55917449182556},{"$f":"INDIRECT(P$1&\"!Q5\")","v":100.56140516141741},99.472542046825268,100.43109826972743,99.563088159216704,99.559899148338786,99.486607730495109,{"$f":"INDIRECT(V$1&\"!V5\")","v":99.122124619128229},{"$f":"INDIRECT(W$1&\"!Q5\")","v":101.1378736443686},99.235431398088636,99.807218920192341,100.32654393503704,100.22457818849379,100.17870524513464,99.93021370946839,{"$f":"INDIRECT(AD$1&\"!V5\")","v":98.428807665204161},{"$f":"INDIRECT(AE$1&\"!Q5\")","v":98.87062733729401}]
["5",{"$f":"INDIRECT(B$1&\"!Q6\")","v":99.802089355825544},99.287854992674028,99.353231432309713,100.32428877218305,99.5454665736262,100.62327978297799,100.21077795674205,99.004620515506687,99.670244509774619,100.40892291934264,{"$f":"INDIRECT(L$1&\"!V6\")","v":99.223750502015108},{"$f":"INDIRECT(M$1&\"!Q6\")","v":100.43653004265438},{"$f":"INDIRECT(N$1&\"!Q6\")","v":99.993518482237477},{"$f":"INDIRECT(O$1&\"!V6\")","v":100.53140716229481},{"$f":"INDIRECT(P$1&\"!Q6\")","v":100.54211233689969},99.761150706103379,100.45151439982531,99.607645078489099,99.751323316617317,99.6994899968672,{"$f":"INDIRECT(V$1&\"!V6\")","v":98.952359052418032},{"$f":"INDIRECT(W$1&\"!Q6\")","v":101.27202086612685},99.333213453697496,100.09509710574787,100.07856141018219,100.40515586653342,99.897210474954377,99.432095132840175,{"$f":"INDIRECT(AD$1&\"!V6\")","v":98.135425536949228},{"$f":"INDIRECT(AE$1&\"!Q6\")","v":98.63434863434864}]
[6,{"$f":"INDIRECT(B$1&\"!Q7\")","v":99.813793946734634},99.675627677249096,99.473432633350782,100.06482746085312,99.816659163666344,100.47316008548066,100.42512138087602,99.087197127330356,99.802524793027771,100.65204730006951,{"$f":"INDIRECT(L$1&\"!V7\")","v":99.230734577363805},{"$f":"INDIRECT(M$1&\"!Q7\")","v":100.64566289705594},{"$f":"INDIRECT(N$1&\"!Q7\")","v":100.28675913854312},{"$f":"INDIRECT(O$1&\"!V7\")","v":100.32667209704348},{"$f":"INDIRECT(P$1&\"!Q7\")","v":100.52152713779637},99.982737289313164,100.2331853316126,99.440340994420055,99.726692289798564,99.771912456519033,{"$f":"INDIRECT(V$1&\"!V7\")","v":98.759574970404913},{"$f":"INDIRECT(W$1&\"!Q7\")","v":100.96936526093383},99.30315235480704,99.861392138055962,100.03238793922155,100.46044486410281,99.362144537231814,99.421762298154249,{"$f":"INDIRECT(AD$1&\"!V7\")","v":99.340922987860921},{"$f":"INDIRECT(AE$1&\"!Q7\")","v":98.445499302642176}]
[7,{"$f":"INDIRECT(B$1&\"!Q8\")","v":99.653617615592211},100.02062863437855,99.332806919740918,99.594403248600656,99.727757103735499,99.997291112375251,100.241771244208,98.963688394425901,99.786877390319418,100.48377835286544,{"$f":"INDIRECT(L$1&\"!V8\")","v":98.891740348128536},{"$f":"INDIRECT(M$1&\"!Q8\")","v":100.47014545584251},{"$f":"INDIRECT(N$1&\"!Q8\")","v":100.49872284773581},{"$f":"INDIRECT(O$1&\"!V8\")","v":100.26201736802356},{"$f":"INDIRECT(P$1&\"!Q8\")","v":100.39145619298002},99.860249964573015,100.23383829486478,99.467237232593789,99.70963098799443,99.793484542562595,{"$f":"INDIRECT(V$1&\"!V8\")","v":98.820850227452581},{"$f":"INDIRECT(W$1&\"!Q8\")","v":101.00286320349043},99.21965590567261,99.457421419788389,100.08812514303128,100.96622577295162,100.14809558051124,100.31523496971981,{"$f":"INDIRECT(AD$1&\"!V8\")","v":99.000973800334137},{"$f":"INDIRECT(AE$1&\"!Q8\")","v":98.818366265425084}]
[8,{"$f":"INDIRECT(B$1&\"!Q9\")","v":99.507339864445086},99.504904281935623,99.326082433777287,99.717929273277591,99.73392902708305,99.742726849460055,99.7777780197205,98.974559024749581,99.407694084689552,100.24714603663031,{"$f":"INDIRECT(L$1&\"!V9\")","v":99.12304812876674},{"$f":"INDIRECT(M$1&\"!Q9\")","v":100.53776694362514},{"$f":"INDIRECT(N$1&\"!Q9\")","v":100.34664994860705},{"$f":"INDIRECT(O$1&\"!V9\")","v":100.57345443137694},{"$f":"INDIRECT(P$1&\"!Q9\")","v":100.2529744599199},99.755685648509257,100.26919211966856,99.701327828355076,99.734075723258954,99.725749134713311,{"$f":"INDIRECT(V$1&\"!V9\")","v":98.911495957450796},{"$f":"INDIRECT(W$1&\"!Q9\")","v":101.17439319169748},99.127635662557353,99.514192644108462,100.43628957366408,100.42632758448224,98.719143895129818,100.07164207036242,{"$f":"INDIRECT(AD$1&\"!V9\")","v":98.645212175594793},{"$f":"INDIRECT(AE$1&\"!Q9\")","v":98.229788229788255}]
[9,{"$f":"INDIRECT(B$1&\"!Q10\")","v":99.248605839058214},99.593324798543122,99.098273268355214,99.797244469314805,100.05993347387347,99.415377797392679,99.87538028173519,98.859086280666148,99.387963430426268,100.59193150025827,{"$f":"INDIRECT(L$1&\"!V10\")","v":99.71739441304446},{"$f":"INDIRECT(M$1&\"!Q10\")","v":100.11711266179258},{"$f":"INDIRECT(N$1&\"!Q10\")","v":100.65193729835435},{"$f":"INDIRECT(O$1&\"!V10\")","v":100.18212128684596},{"$f":"INDIRECT(P$1&\"!Q10\")","v":100.20436166250586},99.739621622145648,99.968935939849004,99.454351458594616,99.699803311908227,99.610982322906324,{"$f":"INDIRECT(V$1&\"!V10\")","v":98.791140060097987},{"$f":"INDIRECT(W$1&\"!Q10\")","v":100.84607461984534},99.065727004152109,100.14344860781847,99.933984347646742,100.99891118132224,99.291094424577025,100.06516650454573,{"$f":"INDIRECT(AD$1&\"!V10\")","v":98.622822596573641},{"$f":"INDIRECT(AE$1&\"!Q10\")","v":97.728174859753807}]
[10,{"$f":"INDIRECT(B$1&\"!Q11\")","v":99.178820751008374},99.313062233004416,99.454526739057485,99.768449706492035,99.727292772689253,99.647718891615938,99.96538195212041,98.560571892556766,99.597286418714674,100.51536864369464,{"$f":"INDIRECT(L$1&\"!V11\")","v":99.673832871754215},{"$f":"INDIRECT(M$1&\"!Q11\")","v":99.714665817480736},{"$f":"INDIRECT(N$1&\"!Q11\")","v":100.35872084747184},{"$f":"INDIRECT(O$1&\"!V11\")","v":99.991792994804612},{"$f":"INDIRECT(P$1&\"!Q11\")","v":100.34579294598078},99.918341202441397,99.922196144059171,99.601725797713414,99.706326206663576,99.72154113866327,{"$f":"INDIRECT(V$1&\"!V11\")","v":98.903273579110447},{"$f":"INDIRECT(W$1&\"!Q11\")","v":101.30110526237097},99.665532741366178,99.72810218274779,100.09604221008787,100.98749977091697,99.852234425398137,100.61147107425867,{"$f":"INDIRECT(AD$1&\"!V11\")","v":99.950654421190805},{"$f":"INDIRECT(AE$1&\"!Q11\")","v":98.669890298461738}]
["11",{"$f":"INDIRECT(B$1&\"!Q12\")","v":99.406693423901444},99.592436892312534,99.372863602971037,100.12359814445276,99.753743944272642,100.21998130474945,100.30947913477071,98.689538632436481,99.911416796447128,100.94393600350845,{"$f":"INDIRECT(L$1&\"!V12\")","v":99.529468877124785},{"$f":"INDIRECT(M$1&\"!Q12\")","v":99.928401262292113},{"$f":"INDIRECT(N$1&\"!Q12\")","v":100.34813200296372},{"$f":"INDIRECT(O$1&\"!V12\")","v":100.14241515646719},{"$f":"INDIRECT(P$1&\"!Q12\")","v":100.33474413805664},99.690282829293508,99.851619475482963,99.742294663440248,99.708660122831517,99.799657099593674,{"$f":"INDIRECT(V$1&\"!V12\")","v":98.841353380415015},{"$f":"INDIRECT(W$1&\"!Q12\")","v":101.51935310172702},99.618745660344416,99.804369413554525,100.37375117331757,101.62168930360301,100.00642576501653,100.21141434677602,{"$f":"INDIRECT(AD$1&\"!V12\")","v":100.6520939076255},{"$f":"INDIRECT(AE$1&\"!Q12\")","v":98.324324324324337}]
[12,{"$f":"INDIRECT(B$1&\"!Q13\")","v":99.452240352244132},99.429906390065497,99.705088594912439,99.879650923646622,100.2177656506811,100.58651455169003,100.32495642787909,98.735116978741758,99.94049551019711,100.41975497501221,{"$f":"INDIRECT(L$1&\"!V13\")","v":99.789649613964997},{"$f":"INDIRECT(M$1&\"!Q13\")","v":100.59386629096363},{"$f":"INDIRECT(N$1&\"!Q13\")","v":100.33323671502718},{"$f":"INDIRECT(O$1&\"!V13\")","v":100.05511279613251},{"$f":"INDIRECT(P$1&\"!Q13\")","v":100.18784269331347},99.858203233378077,100.11074751427238,99.586403280627025,99.73170490557473,99.818669324442652,{"$f":"INDIRECT(V$1&\"!V13\")","v":98.801407814424593},{"$f":"INDIRECT(W$1&\"!Q13\")","v":101.31480563466255},99.842473880464524,99.677689792919551,100.20675253736641,101.49600650798152,100.13310993218261,99.352977598493638,{"$f":"INDIRECT(AD$1&\"!V13\")","v":100.94645741433494},{"$f":"INDIRECT(AE$1&\"!Q13\")","v":97.918306061163221}]
[17.010000000000002,{"$f":"INDIRECT(B$1&\"!Q14\")","v":99.232303372558647},99.325501772670052,99.160021805682049,100.14647286808447,100.02918342573621,100.29846778609055,100.36713775946684,98.522734287945141,99.651022873981972,100.5708619362903,{"$f":"INDIRECT(L$1&\"!V14\")","v":99.556435502090665},{"$f":"INDIRECT(M$1&\"!Q14\")","v":100.23575680780388},{"$f":"INDIRECT(N$1&\"!Q14\")","v":100.3784837808616},{"$f":"INDIRECT(O$1&\"!V14\")","v":100.01004529946928},{"$f":"INDIRECT(P$1&\"!Q14\")","v":100.1797351485324},99.897836847274917,99.79926002718733,99.63658288246701,99.741420750086746,99.794846176320135,{"$f":"INDIRECT(V$1&\"!V14\")","v":98.798886353452659},{"$f":"INDIRECT(W$1&\"!Q14\")","v":101.30348439496495},99.805960534634323,99.83765623462935,101.31221650749166,100.26240768087109,99.155234387521247,98.583201283601298,{"$f":"INDIRECT(AD$1&\"!V14\")","v":100.55724907570772},{"$f":"INDIRECT(AE$1&\"!Q14\")","v":97.754538572185652}]
[2,{"$f":"INDIRECT(B$1&\"!Q15\")","v":99.363826872492382},99.418292206450403,99.401865799981167,99.903845096958037,99.825694213699251,100.38446553988098,100.40302491633493,98.666571914047196,99.718002932783762,100.45642503002104,{"$f":"INDIRECT(L$1&\"!V15\")","v":99.059988993289977},{"$f":"INDIRECT(M$1&\"!Q15\")","v":100.48677412072789},{"$f":"INDIRECT(N$1&\"!Q15\")","v":100.45244040844679},{"$f":"INDIRECT(O$1&\"!V15\")","v":99.979764361276992},{"$f":"INDIRECT(P$1&\"!Q15\")","v":100.24018887389823},100.10794935980734,100.03970478979079,99.841402214758901,99.633801708397215,99.688242242126734,{"$f":"INDIRECT(V$1&\"!V15\")","v":98.650264653325195},{"$f":"INDIRECT(W$1&\"!Q15\")","v":101.27325331548242},99.972773040591889,99.72789761825851,101.52519662366277,100.57908903468697,99.179799046300772,98.744627878804849,{"$f":"INDIRECT(AD$1&\"!V15\")","v":99.787135531383328},{"$f":"INDIRECT(AE$1&\"!Q15\")","v":99.303136218925701}]
[3,{"$f":"INDIRECT(B$1&\"!Q16\")","v":99.267960188493149},99.478193145101812,99.713724916215369,100.18669934995121,100.0909010535626,100.0674334057605,99.801793324210763,98.472242891519031,99.565503998621239,100.69124790930184,{"$f":"INDIRECT(L$1&\"!V16\")","v":99.01883653652169},{"$f":"INDIRECT(M$1&\"!Q16\")","v":99.991038269141029},{"$f":"INDIRECT(N$1&\"!Q16\")","v":100.40990835413936},{"$f":"INDIRECT(O$1&\"!V16\")","v":100.07112209835678},{"$f":"INDIRECT(P$1&\"!Q16\")","v":100.24527849018719},99.980873430489595,99.963242199528153,99.491400144423466,99.674578079287741,99.589821002703644,{"$f":"INDIRECT(V$1&\"!V16\")","v":98.875427979160179},{"$f":"INDIRECT(W$1&\"!Q16\")","v":100.95445778389738},99.786111226359552,99.467130406002951,101.39480653534152,101.07154137834922,99.023280136604072,98.394126631074272,{"$f":"INDIRECT(AD$1&\"!V16\")","v":99.905796300332142},{"$f":"INDIRECT(AE$1&\"!Q16\")","v":99.083778583778596}]
[4,{"$f":"INDIRECT(B$1&\"!Q17\")","v":99.157267808155524},99.275470537147839,99.439392724553983,99.681068553419976,99.812738179182119,99.996380368838928,99.309197792601637,98.107926822912944,100.05538377355509,100.61604912027306,{"$f":"INDIRECT(L$1&\"!V17\")","v":99.202926693424104},{"$f":"INDIRECT(M$1&\"!Q17\")","v":100.59274438516448},{"$f":"INDIRECT(N$1&\"!Q17\")","v":100.51028019191162},{"$f":"INDIRECT(O$1&\"!V17\")","v":99.93668455183554},{"$f":"INDIRECT(P$1&\"!Q17\")","v":100.85537607292798},100.03510362056221,99.434411743624779,99.432510296307072,99.706292285131028,99.708232646330643,{"$f":"INDIRECT(V$1&\"!V17\")","v":98.687736817249444},{"$f":"INDIRECT(W$1&\"!Q17\")","v":101.24878624883343},100.26075292324626,99.302587531807248,100.76748679338283,100.94377053709557,99.016378915990757,99.697368469123333,{"$f":"INDIRECT(AD$1&\"!V17\")","v":101.35680868832986},{"$f":"INDIRECT(AE$1&\"!Q17\")","v":98.132072072072091}]
[5,{"$f":"INDIRECT(B$1&\"!Q18\")","v":99.098428162651743},{"$f":"INDIRECT(C$1&\"!Q18\")","v":99.511955665566646},{"$f":"INDIRECT(D$1&\"!Q18\")","v":99.087335552472908},{"$f":"INDIRECT(E$1&\"!Q18\")","v":99.806506751050122},{"$f":"INDIRECT(F$1&\"!Q18\")","v":99.690171748917408},{"$f":"INDIRECT(G$1&\"!Q18\")","v":99.904830624872133},{"$f":"INDIRECT(H$1&\"!Q18\")","v":99.465963711799503},{"$f":"INDIRECT(I$1&\"!Q18\")","v":97.993184472687986},{"$f":"INDIRECT(J$1&\"!Q18\")","v":99.938010616353125},{"$f":"INDIRECT(K$1&\"!Q18\")","v":100.9154353327592},{"$f":"INDIRECT(L$1&\"!V18\")","v":99.870683535408702},{"$f":"INDIRECT(M$1&\"!Q18\")","v":100.44329587355942},{"$f":"INDIRECT(N$1&\"!Q18\")","v":100.33803543953552},{"$f":"INDIRECT(O$1&\"!V18\")","v":99.825171632092278},{"$f":"INDIRECT(P$1&\"!Q18\")","v":101.11669582882902},{"$f":"INDIRECT(Q$1&\"!Q18\")","v":100.0794913543773},{"$f":"INDIRECT(R$1&\"!Q18\")","v":99.685605820329144},{"$f":"INDIRECT(S$1&\"!Q18\")","v":99.7570919759833},{"$f":"INDIRECT(T$1&\"!Q18\")","v":99.652163979643532},{"$f":"INDIRECT(U$1&\"!Q18\")","v":99.678156548235506},{"$f":"INDIRECT(V$1&\"!V18\")","v":98.586226168392656},{"$f":"INDIRECT(W$1&\"!Q18\")","v":101.47400979441083},{"$f":"INDIRECT(X$1&\"!Q18\")","v":100.57400897041842},{"$f":"INDIRECT(Y$1&\"!Q18\")","v":99.582890922273805},{"$f":"INDIRECT(Z$1&\"!Q18\")","v":101.8053646222492},{"$f":"INDIRECT(AA$1&\"!Q18\")","v":101.40799574631312},{"$f":"INDIRECT(AB$1&\"!Q18\")","v":99.744208116245517},{"$f":"INDIRECT(AC$1&\"!Q18\")","v":99.062689550570383},{"$f":"INDIRECT(AD$1&\"!V18\")","v":101.57821475260454},{"$f":"INDIRECT(AE$1&\"!Q18\")","v":98.697477477477477}]
[6]
[7]